BEGIN:VCALENDAR
VERSION:2.0
PRODID:-//Grey Highlands Public Library - ECPv6.15.20//NONSGML v1.0//EN
CALSCALE:GREGORIAN
METHOD:PUBLISH
X-ORIGINAL-URL:https://ghpl.ca
X-WR-CALDESC:Events for Grey Highlands Public Library
REFRESH-INTERVAL;VALUE=DURATION:PT1H
X-Robots-Tag:noindex
X-PUBLISHED-TTL:PT1H
BEGIN:VTIMEZONE
TZID:America/Toronto
BEGIN:DAYLIGHT
TZOFFSETFROM:-0500
TZOFFSETTO:-0400
TZNAME:EDT
DTSTART:20240310T070000
END:DAYLIGHT
BEGIN:STANDARD
TZOFFSETFROM:-0400
TZOFFSETTO:-0500
TZNAME:EST
DTSTART:20241103T060000
END:STANDARD
BEGIN:DAYLIGHT
TZOFFSETFROM:-0500
TZOFFSETTO:-0400
TZNAME:EDT
DTSTART:20250309T070000
END:DAYLIGHT
BEGIN:STANDARD
TZOFFSETFROM:-0400
TZOFFSETTO:-0500
TZNAME:EST
DTSTART:20251102T060000
END:STANDARD
BEGIN:DAYLIGHT
TZOFFSETFROM:-0500
TZOFFSETTO:-0400
TZNAME:EDT
DTSTART:20260308T070000
END:DAYLIGHT
BEGIN:STANDARD
TZOFFSETFROM:-0400
TZOFFSETTO:-0500
TZNAME:EST
DTSTART:20261101T060000
END:STANDARD
END:VTIMEZONE
BEGIN:VEVENT
DTSTART;TZID=America/Toronto:20250911T180000
DTEND;TZID=America/Toronto:20250911T190000
DTSTAMP:20260425T095842
CREATED:20250829T181442Z
LAST-MODIFIED:20250829T181442Z
UID:10000272-1757613600-1757617200@ghpl.ca
SUMMARY:Teen Night!
DESCRIPTION:Looking for something fun to do on a Thursday night? \nJoin us every other Thursday at our Markdale Branch for Teen Nights — a chill hangout just for teens with a new activity each time! From creative crafts and games to movie nights and more\, there’s always something different to try. \nBring your friends or come make new ones — everyone’s welcome! \nSnacks provided.
URL:https://ghpl.ca/event/teen-night-3-3/
LOCATION:Markdale Branch\, Grey Highlands Public Library - Markdale 75 Walker St\, Markdale\, ON\, N0C 1H0\, Canada
CATEGORIES:Teens
ATTACH;FMTTYPE=image/webp:https://ghpl.ca/wp-content/uploads/2025/05/7d438dd9-23c7-45d7-83cd-04f1319532fe.jpg.webp
ORGANIZER;CN="Jeff Rosenburg":MAILTO:jrosenburg@ghpl.ca
END:VEVENT
BEGIN:VEVENT
DTSTART;TZID=America/Toronto:20250828T180000
DTEND;TZID=America/Toronto:20250828T190000
DTSTAMP:20260425T095842
CREATED:20250826T201853Z
LAST-MODIFIED:20250826T201853Z
UID:10000253-1756404000-1756407600@ghpl.ca
SUMMARY:Teen Night!
DESCRIPTION:Looking for something fun to do on a Thursday night? \nJoin us every other Thursday at our Markdale Branch for Teen Nights — a chill hangout just for teens with a new activity each time! From creative crafts and games to movie nights and more\, there’s always something different to try. \nBring your friends or come make new ones — everyone’s welcome! \nSnacks provided.
URL:https://ghpl.ca/event/teen-night-3-2/
LOCATION:Markdale Branch\, Grey Highlands Public Library - Markdale 75 Walker St\, Markdale\, ON\, N0C 1H0\, Canada
CATEGORIES:Teens
ATTACH;FMTTYPE=image/webp:https://ghpl.ca/wp-content/uploads/2025/05/7d438dd9-23c7-45d7-83cd-04f1319532fe.jpg.webp
ORGANIZER;CN="Jeff Rosenburg":MAILTO:jrosenburg@ghpl.ca
END:VEVENT
BEGIN:VEVENT
DTSTART;TZID=America/Toronto:20250814T180000
DTEND;TZID=America/Toronto:20250814T190000
DTSTAMP:20260425T095842
CREATED:20250521T200040Z
LAST-MODIFIED:20250617T142442Z
UID:10000252-1755194400-1755198000@ghpl.ca
SUMMARY:Teen Night!
DESCRIPTION:Looking for something fun to do on a Thursday night? \nJoin us every other Thursday at our Markdale Branch for Teen Nights — a chill hangout just for teens with a new activity each time! From creative crafts and games to movie nights and more\, there’s always something different to try. \nBring your friends or come make new ones — everyone’s welcome! \nSnacks provided.
URL:https://ghpl.ca/event/teen-night/2025-08-14/
LOCATION:Markdale Branch\, Grey Highlands Public Library - Markdale 75 Walker St\, Markdale\, ON\, N0C 1H0\, Canada
CATEGORIES:Teens
ATTACH;FMTTYPE=image/webp:https://ghpl.ca/wp-content/uploads/2025/05/7d438dd9-23c7-45d7-83cd-04f1319532fe.jpg.webp
ORGANIZER;CN="Jeff Rosenburg":MAILTO:jrosenburg@ghpl.ca
END:VEVENT
BEGIN:VEVENT
DTSTART;TZID=America/Toronto:20250731T180000
DTEND;TZID=America/Toronto:20250731T190000
DTSTAMP:20260425T095842
CREATED:20250521T200040Z
LAST-MODIFIED:20250617T142442Z
UID:10000251-1753984800-1753988400@ghpl.ca
SUMMARY:Teen Night!
DESCRIPTION:Looking for something fun to do on a Thursday night? \nJoin us every other Thursday at our Markdale Branch for Teen Nights — a chill hangout just for teens with a new activity each time! From creative crafts and games to movie nights and more\, there’s always something different to try. \nBring your friends or come make new ones — everyone’s welcome! \nSnacks provided.
URL:https://ghpl.ca/event/teen-night/2025-07-31/
LOCATION:Markdale Branch\, Grey Highlands Public Library - Markdale 75 Walker St\, Markdale\, ON\, N0C 1H0\, Canada
CATEGORIES:Teens
ATTACH;FMTTYPE=image/webp:https://ghpl.ca/wp-content/uploads/2025/05/7d438dd9-23c7-45d7-83cd-04f1319532fe.jpg.webp
ORGANIZER;CN="Jeff Rosenburg":MAILTO:jrosenburg@ghpl.ca
END:VEVENT
BEGIN:VEVENT
DTSTART;TZID=America/Toronto:20250717T180000
DTEND;TZID=America/Toronto:20250717T190000
DTSTAMP:20260425T095842
CREATED:20250521T200040Z
LAST-MODIFIED:20250617T142442Z
UID:10000250-1752775200-1752778800@ghpl.ca
SUMMARY:Teen Night!
DESCRIPTION:Looking for something fun to do on a Thursday night? \nJoin us every other Thursday at our Markdale Branch for Teen Nights — a chill hangout just for teens with a new activity each time! From creative crafts and games to movie nights and more\, there’s always something different to try. \nBring your friends or come make new ones — everyone’s welcome! \nSnacks provided.
URL:https://ghpl.ca/event/teen-night/2025-07-17/
LOCATION:Markdale Branch\, Grey Highlands Public Library - Markdale 75 Walker St\, Markdale\, ON\, N0C 1H0\, Canada
CATEGORIES:Teens
ATTACH;FMTTYPE=image/webp:https://ghpl.ca/wp-content/uploads/2025/05/7d438dd9-23c7-45d7-83cd-04f1319532fe.jpg.webp
ORGANIZER;CN="Jeff Rosenburg":MAILTO:jrosenburg@ghpl.ca
END:VEVENT
BEGIN:VEVENT
DTSTART;TZID=America/Toronto:20250703T180000
DTEND;TZID=America/Toronto:20250703T190000
DTSTAMP:20260425T095842
CREATED:20250626T155439Z
LAST-MODIFIED:20250819T175930Z
UID:10000249-1751565600-1751569200@ghpl.ca
SUMMARY:Teen Night!
DESCRIPTION:Looking for something fun to do on a Thursday night? \nJoin us every other Thursday at our Markdale Branch for Teen Nights — a chill hangout just for teens with a new activity each time! From creative crafts and games to movie nights and more\, there’s always something different to try. \nBring your friends or come make new ones — everyone’s welcome! \nSnacks provided.
URL:https://ghpl.ca/event/teen-night-2/
LOCATION:Markdale Branch\, Grey Highlands Public Library - Markdale 75 Walker St\, Markdale\, ON\, N0C 1H0\, Canada
CATEGORIES:Teens
ATTACH;FMTTYPE=image/webp:https://ghpl.ca/wp-content/uploads/2025/05/7d438dd9-23c7-45d7-83cd-04f1319532fe.jpg.webp
ORGANIZER;CN="Jeff Rosenburg":MAILTO:jrosenburg@ghpl.ca
END:VEVENT
BEGIN:VEVENT
DTSTART;TZID=America/Toronto:20250619T180000
DTEND;TZID=America/Toronto:20250619T190000
DTSTAMP:20260425T095842
CREATED:20250521T200040Z
LAST-MODIFIED:20250617T142442Z
UID:10000248-1750356000-1750359600@ghpl.ca
SUMMARY:Teen Night!
DESCRIPTION:Looking for something fun to do on a Thursday night? \nJoin us every other Thursday at our Markdale Branch for Teen Nights — a chill hangout just for teens with a new activity each time! From creative crafts and games to movie nights and more\, there’s always something different to try. \nBring your friends or come make new ones — everyone’s welcome! \nSnacks provided.
URL:https://ghpl.ca/event/teen-night/2025-06-19/
LOCATION:Markdale Branch\, Grey Highlands Public Library - Markdale 75 Walker St\, Markdale\, ON\, N0C 1H0\, Canada
CATEGORIES:Teens
ATTACH;FMTTYPE=image/webp:https://ghpl.ca/wp-content/uploads/2025/05/7d438dd9-23c7-45d7-83cd-04f1319532fe.jpg.webp
ORGANIZER;CN="Jeff Rosenburg":MAILTO:jrosenburg@ghpl.ca
END:VEVENT
BEGIN:VEVENT
DTSTART;TZID=America/Toronto:20250605T180000
DTEND;TZID=America/Toronto:20250605T190000
DTSTAMP:20260425T095842
CREATED:20250520T164705Z
LAST-MODIFIED:20250520T172519Z
UID:10000219-1749146400-1749150000@ghpl.ca
SUMMARY:Teen Night: Karaoke!
DESCRIPTION:Looking for something fun to do on a Thursday night? Come hang out at the library for Teen Nights—a chill space just for teens with a new activity every other week! From games and crafts to challenges and creative workshops\, there’s always something different to try. \nWe’re kicking things off with a Karaoke Night—grab the mic\, sing your heart out\, or just cheer on your friends. No pressure\, just good vibes! \nSnacks\, music\, and a place to hang out and be yourself. Bring your friends or come solo—either way\, you’re welcome here! \n 
URL:https://ghpl.ca/event/teen-night-karaoke/
LOCATION:Markdale Branch\, Grey Highlands Public Library - Markdale 75 Walker St\, Markdale\, ON\, N0C 1H0\, Canada
CATEGORIES:Teens
ATTACH;FMTTYPE=image/webp:https://ghpl.ca/wp-content/uploads/2025/05/Untitled-design-65.webp
ORGANIZER;CN="Jeff Rosenburg":MAILTO:jrosenburg@ghpl.ca
END:VEVENT
BEGIN:VEVENT
DTSTART;TZID=America/Toronto:20250510T093000
DTEND;TZID=America/Toronto:20250510T123000
DTSTAMP:20260425T095842
CREATED:20250424T154144Z
LAST-MODIFIED:20250424T154217Z
UID:10000209-1746869400-1746880200@ghpl.ca
SUMMARY:Spring Book Sale!
DESCRIPTION:Drop into our Markdale Branch and browse the Friends of the Library’s Spring Book Sale!  There’s a huge selection of fiction\, non-fiction\, audiobooks\, movies\, and more waiting to be discovered! \nPay by donation\, cash only. \n 
URL:https://ghpl.ca/event/markdale-branch-book-sale/2025-05-10/
LOCATION:Markdale Branch\, Grey Highlands Public Library - Markdale 75 Walker St\, Markdale\, ON\, N0C 1H0\, Canada
CATEGORIES:Adult
ATTACH;FMTTYPE=image/jpeg:https://ghpl.ca/wp-content/uploads/2025/04/Untitled-design-42.jpg
ORGANIZER;CN="Jeff Rosenburg":MAILTO:jrosenburg@ghpl.ca
END:VEVENT
BEGIN:VEVENT
DTSTART;TZID=America/Toronto:20250509T093000
DTEND;TZID=America/Toronto:20250509T170000
DTSTAMP:20260425T095842
CREATED:20250424T154144Z
LAST-MODIFIED:20250424T154217Z
UID:10000208-1746783000-1746810000@ghpl.ca
SUMMARY:Spring Book Sale!
DESCRIPTION:Drop into our Markdale Branch and browse the Friends of the Library’s Spring Book Sale!  There’s a huge selection of fiction\, non-fiction\, audiobooks\, movies\, and more waiting to be discovered! \nPay by donation\, cash only. \n 
URL:https://ghpl.ca/event/markdale-branch-book-sale/2025-05-09/
LOCATION:Markdale Branch\, Grey Highlands Public Library - Markdale 75 Walker St\, Markdale\, ON\, N0C 1H0\, Canada
CATEGORIES:Adult
ATTACH;FMTTYPE=image/jpeg:https://ghpl.ca/wp-content/uploads/2025/04/Untitled-design-42.jpg
ORGANIZER;CN="Jeff Rosenburg":MAILTO:jrosenburg@ghpl.ca
END:VEVENT
BEGIN:VEVENT
DTSTART;TZID=America/Toronto:20250508T093000
DTEND;TZID=America/Toronto:20250508T200000
DTSTAMP:20260425T095842
CREATED:20250424T154144Z
LAST-MODIFIED:20250424T154217Z
UID:10000207-1746696600-1746734400@ghpl.ca
SUMMARY:Spring Book Sale!
DESCRIPTION:Drop into our Markdale Branch and browse the Friends of the Library’s Spring Book Sale!  There’s a huge selection of fiction\, non-fiction\, audiobooks\, movies\, and more waiting to be discovered! \nPay by donation\, cash only. \n 
URL:https://ghpl.ca/event/markdale-branch-book-sale/2025-05-08/
LOCATION:Markdale Branch\, Grey Highlands Public Library - Markdale 75 Walker St\, Markdale\, ON\, N0C 1H0\, Canada
CATEGORIES:Adult
ATTACH;FMTTYPE=image/jpeg:https://ghpl.ca/wp-content/uploads/2025/04/Untitled-design-42.jpg
ORGANIZER;CN="Jeff Rosenburg":MAILTO:jrosenburg@ghpl.ca
END:VEVENT
BEGIN:VEVENT
DTSTART;TZID=America/Toronto:20250507T093000
DTEND;TZID=America/Toronto:20250507T170000
DTSTAMP:20260425T095842
CREATED:20250424T154144Z
LAST-MODIFIED:20250424T154217Z
UID:10000206-1746610200-1746637200@ghpl.ca
SUMMARY:Spring Book Sale!
DESCRIPTION:Drop into our Markdale Branch and browse the Friends of the Library’s Spring Book Sale!  There’s a huge selection of fiction\, non-fiction\, audiobooks\, movies\, and more waiting to be discovered! \nPay by donation\, cash only. \n 
URL:https://ghpl.ca/event/markdale-branch-book-sale/2025-05-07/
LOCATION:Markdale Branch\, Grey Highlands Public Library - Markdale 75 Walker St\, Markdale\, ON\, N0C 1H0\, Canada
CATEGORIES:Adult
ATTACH;FMTTYPE=image/jpeg:https://ghpl.ca/wp-content/uploads/2025/04/Untitled-design-42.jpg
ORGANIZER;CN="Jeff Rosenburg":MAILTO:jrosenburg@ghpl.ca
END:VEVENT
BEGIN:VEVENT
DTSTART;TZID=America/Toronto:20250506T093000
DTEND;TZID=America/Toronto:20250506T170000
DTSTAMP:20260425T095842
CREATED:20250506T134938Z
LAST-MODIFIED:20250506T134938Z
UID:10000205-1746523800-1746550800@ghpl.ca
SUMMARY:Spring Book Sale!
DESCRIPTION:Drop into our Markdale Branch and browse the Friends of the Library’s Spring Book Sale!  There’s a huge selection of fiction\, non-fiction\, audiobooks\, movies\, and more waiting to be discovered! \nPay by donation\, cash only. \n 
URL:https://ghpl.ca/event/markdale-branch-book-sale-2/
LOCATION:Markdale Branch\, Grey Highlands Public Library - Markdale 75 Walker St\, Markdale\, ON\, N0C 1H0\, Canada
CATEGORIES:Adult
ATTACH;FMTTYPE=image/jpeg:https://ghpl.ca/wp-content/uploads/2025/04/Untitled-design-42.jpg
ORGANIZER;CN="Jeff Rosenburg":MAILTO:jrosenburg@ghpl.ca
END:VEVENT
BEGIN:VEVENT
DTSTART;TZID=America/Toronto:20250505T183000
DTEND;TZID=America/Toronto:20250505T210000
DTSTAMP:20260425T095842
CREATED:20250423T173401Z
LAST-MODIFIED:20250425T180429Z
UID:10000201-1746469800-1746478800@ghpl.ca
SUMMARY:Spring Café
DESCRIPTION:Join us for our Spring Cafe\, happening on Monday May 5th at the Flesherton Kinplex!  Don’t miss out on this one-time event\, featuring a talk with special guest R.H. Thomson\, actor and acclaimed author of By The Ghost Light: Wars\, Memories\, and Families\, a book the explores the stories that shape us and the impact that the past can have across generations.  Don’t miss this chance to connect with the author\, explore his book\, and enjoy a community-filled evening!\n\n\n\nTickets are available for purchase at each of our branches for $12 in advance and $15 at the door. Doors will open at 6:30pm and the event will begin at 7:00pm.\n\n\nThe Flesherton Kinplex is located at 102 Highland Drive\, Flesherton\, ON\, N0C 1E0 (across the parking lot from the Flesherton Library).\n\n\n**Note: tickets purchased for the 2024 Holiday Cafe will be honoured at this event.
URL:https://ghpl.ca/event/spring-cafe/
LOCATION:Flesherton Kinplex\, 102 Highland Drive\, Flesherton\, Ontario\, N0H 1E0\, Canada
CATEGORIES:Adult
ATTACH;FMTTYPE=image/webp:https://ghpl.ca/wp-content/uploads/2025/04/Untitled-design-26.webp
ORGANIZER;CN="Jeff Rosenburg":MAILTO:jrosenburg@ghpl.ca
END:VEVENT
BEGIN:VEVENT
DTSTART;TZID=America/Toronto:20250503T093000
DTEND;TZID=America/Toronto:20250503T143000
DTSTAMP:20260425T095842
CREATED:20250424T154144Z
LAST-MODIFIED:20250424T154217Z
UID:10000204-1746264600-1746282600@ghpl.ca
SUMMARY:Spring Book Sale!
DESCRIPTION:Drop into our Markdale Branch and browse the Friends of the Library’s Spring Book Sale!  There’s a huge selection of fiction\, non-fiction\, audiobooks\, movies\, and more waiting to be discovered! \nPay by donation\, cash only. \n 
URL:https://ghpl.ca/event/markdale-branch-book-sale/2025-05-03/
LOCATION:Markdale Branch\, Grey Highlands Public Library - Markdale 75 Walker St\, Markdale\, ON\, N0C 1H0\, Canada
CATEGORIES:Adult
ATTACH;FMTTYPE=image/jpeg:https://ghpl.ca/wp-content/uploads/2025/04/Untitled-design-42.jpg
ORGANIZER;CN="Jeff Rosenburg":MAILTO:jrosenburg@ghpl.ca
END:VEVENT
BEGIN:VEVENT
DTSTART;TZID=America/Toronto:20250502T093000
DTEND;TZID=America/Toronto:20250502T170000
DTSTAMP:20260425T095842
CREATED:20250424T154144Z
LAST-MODIFIED:20250424T154217Z
UID:10000203-1746178200-1746205200@ghpl.ca
SUMMARY:Spring Book Sale!
DESCRIPTION:Drop into our Markdale Branch and browse the Friends of the Library’s Spring Book Sale!  There’s a huge selection of fiction\, non-fiction\, audiobooks\, movies\, and more waiting to be discovered! \nPay by donation\, cash only. \n 
URL:https://ghpl.ca/event/markdale-branch-book-sale/2025-05-02/
LOCATION:Markdale Branch\, Grey Highlands Public Library - Markdale 75 Walker St\, Markdale\, ON\, N0C 1H0\, Canada
CATEGORIES:Adult
ATTACH;FMTTYPE=image/jpeg:https://ghpl.ca/wp-content/uploads/2025/04/Untitled-design-42.jpg
ORGANIZER;CN="Jeff Rosenburg":MAILTO:jrosenburg@ghpl.ca
END:VEVENT
BEGIN:VEVENT
DTSTART;TZID=America/Toronto:20250501T130000
DTEND;TZID=America/Toronto:20250501T200000
DTSTAMP:20260425T095842
CREATED:20250424T154144Z
LAST-MODIFIED:20250424T154217Z
UID:10000202-1746104400-1746129600@ghpl.ca
SUMMARY:Spring Book Sale!
DESCRIPTION:Drop into our Markdale Branch and browse the Friends of the Library’s Spring Book Sale!  There’s a huge selection of fiction\, non-fiction\, audiobooks\, movies\, and more waiting to be discovered! \nPay by donation\, cash only. \n 
URL:https://ghpl.ca/event/markdale-branch-book-sale/2025-05-01/
LOCATION:Markdale Branch\, Grey Highlands Public Library - Markdale 75 Walker St\, Markdale\, ON\, N0C 1H0\, Canada
CATEGORIES:Adult
ATTACH;FMTTYPE=image/jpeg:https://ghpl.ca/wp-content/uploads/2025/04/Untitled-design-42.jpg
ORGANIZER;CN="Jeff Rosenburg":MAILTO:jrosenburg@ghpl.ca
END:VEVENT
BEGIN:VEVENT
DTSTART;TZID=America/Toronto:20250416T190000
DTEND;TZID=America/Toronto:20250416T210000
DTSTAMP:20260425T095842
CREATED:20250408T185238Z
LAST-MODIFIED:20250408T185238Z
UID:10000190-1744830000-1744837200@ghpl.ca
SUMMARY:Movie Night! Corner Gas: The Movie
DESCRIPTION:Join us on April 16th at our Flesherton Branch for a FREE showing of Corner Gas: The Movie! Enjoy a fun-filled evening with friends and family as we honor Canadian cinema on National Canadian Film Day. Don’t miss out on this special event! \n  \n 
URL:https://ghpl.ca/event/movie-night-corner-gas-the-movie/
LOCATION:Flesherton Branch\, Grey Highlands Public Library - Flesherton 101 Highland Drive\, Flesherton\, ON\, N0C 1E0\, Canada
CATEGORIES:Adult
ATTACH;FMTTYPE=image/webp:https://ghpl.ca/wp-content/uploads/2025/04/Untitled-design-40.webp
ORGANIZER;CN="Jeff Rosenburg":MAILTO:jrosenburg@ghpl.ca
END:VEVENT
END:VCALENDAR