BEGIN:VCALENDAR
VERSION:2.0
PRODID:-//Grey Highlands Public Library - ECPv6.15.20//NONSGML v1.0//EN
CALSCALE:GREGORIAN
METHOD:PUBLISH
X-ORIGINAL-URL:https://ghpl.ca
X-WR-CALDESC:Events for Grey Highlands Public Library
REFRESH-INTERVAL;VALUE=DURATION:PT1H
X-Robots-Tag:noindex
X-PUBLISHED-TTL:PT1H
BEGIN:VTIMEZONE
TZID:America/Toronto
BEGIN:DAYLIGHT
TZOFFSETFROM:-0500
TZOFFSETTO:-0400
TZNAME:EDT
DTSTART:20250309T070000
END:DAYLIGHT
BEGIN:STANDARD
TZOFFSETFROM:-0400
TZOFFSETTO:-0500
TZNAME:EST
DTSTART:20251102T060000
END:STANDARD
BEGIN:DAYLIGHT
TZOFFSETFROM:-0500
TZOFFSETTO:-0400
TZNAME:EDT
DTSTART:20260308T070000
END:DAYLIGHT
BEGIN:STANDARD
TZOFFSETFROM:-0400
TZOFFSETTO:-0500
TZNAME:EST
DTSTART:20261101T060000
END:STANDARD
BEGIN:DAYLIGHT
TZOFFSETFROM:-0500
TZOFFSETTO:-0400
TZNAME:EDT
DTSTART:20270314T070000
END:DAYLIGHT
BEGIN:STANDARD
TZOFFSETFROM:-0400
TZOFFSETTO:-0500
TZNAME:EST
DTSTART:20271107T060000
END:STANDARD
END:VTIMEZONE
BEGIN:VEVENT
DTSTART;TZID=America/Toronto:20260424T133000
DTEND;TZID=America/Toronto:20260424T143000
DTSTAMP:20260423T111602
CREATED:20260408T135911Z
LAST-MODIFIED:20260423T130946Z
UID:10000696-1777037400-1777041000@ghpl.ca
SUMMARY:PA Day Program: Author Visit with Carolyn Morris (+ chicks!) (Flesherton)
DESCRIPTION:Join local author Carolyn Morris for farm‑themed storytelling designed for children and families\, followed by a hands‑on learning experience where children can meet and hold real baby chicks. \nThis PA Day program offers a fun and engaging opportunity to connect with a local author while learning about farm life in an interactive setting. \nRegistration is required. \n**Please register each child individually.** \n  \n 
URL:https://ghpl.ca/event/pa-day-program-author-visit-with-carolyn-morris-chicks-flesherton/
LOCATION:Flesherton Branch\, Grey Highlands Public Library - Flesherton 101 Highland Drive\, Flesherton\, ON\, N0C 1E0\, Canada
CATEGORIES:Kids
ATTACH;FMTTYPE=image/webp:https://ghpl.ca/wp-content/uploads/2026/04/Untitled-design-2026-04-07T161122.576-1.webp
ORGANIZER;CN="Michelle Campbell":MAILTO:mcampbell@ghpl.ca
END:VEVENT
BEGIN:VEVENT
DTSTART;TZID=America/Toronto:20260424T150000
DTEND;TZID=America/Toronto:20260424T160000
DTSTAMP:20260423T111602
CREATED:20260408T141259Z
LAST-MODIFIED:20260423T130925Z
UID:10000697-1777042800-1777046400@ghpl.ca
SUMMARY:PA Day Program: Author Visit with Carolyn Morris (+ chicks!) (Markdale)
DESCRIPTION:Join local author Carolyn Morris for farm‑themed storytelling designed for children and families\, followed by a hands‑on learning experience where children can meet and hold real baby chicks. \nThis PA Day program offers a fun and engaging opportunity to connect with a local author while learning about farm life in an interactive setting. \nRegistration is required. \n**Please register each child individually.** \n 
URL:https://ghpl.ca/event/pa-day-program-author-visit-with-carolyn-morris-chicks-markdale/
LOCATION:Markdale Branch\, Grey Highlands Public Library - Markdale 75 Walker St\, Markdale\, ON\, N0C 1H0\, Canada
CATEGORIES:Kids
ATTACH;FMTTYPE=image/webp:https://ghpl.ca/wp-content/uploads/2026/04/Untitled-design-2026-04-08T100712.254.webp
ORGANIZER;CN="Michelle Campbell":MAILTO:mcampbell@ghpl.ca
END:VEVENT
BEGIN:VEVENT
DTSTART;TZID=America/Toronto:20260428T103000
DTEND;TZID=America/Toronto:20260428T113000
DTSTAMP:20260423T111602
CREATED:20250422T160940Z
LAST-MODIFIED:20251022T185346Z
UID:10000122-1777372200-1777375800@ghpl.ca
SUMMARY:Family Storytime (Flesherton)
DESCRIPTION:Join us at the Flesherton branch for crafts\, songs and stories! \nNo registration required. \n 
URL:https://ghpl.ca/event/family-storytime-3/2026-04-28/
LOCATION:Flesherton Branch\, Grey Highlands Public Library - Flesherton 101 Highland Drive\, Flesherton\, ON\, N0C 1E0\, Canada
CATEGORIES:Kids
ATTACH;FMTTYPE=image/webp:https://ghpl.ca/wp-content/uploads/2025/02/Untitled-design-20.webp
ORGANIZER;CN="Michelle Campbell":MAILTO:mcampbell@ghpl.ca
END:VEVENT
BEGIN:VEVENT
DTSTART;TZID=America/Toronto:20260429T103000
DTEND;TZID=America/Toronto:20260429T113000
DTSTAMP:20260423T111602
CREATED:20250226T142728Z
LAST-MODIFIED:20251217T201307Z
UID:10000182-1777458600-1777462200@ghpl.ca
SUMMARY:Family Storytime (Markdale)
DESCRIPTION:Join us at the Markdale Branch for crafts\, songs and stories! \nNo registration required. \n 
URL:https://ghpl.ca/event/family-storytime-2/2026-04-29/
LOCATION:Markdale Branch\, Grey Highlands Public Library - Markdale 75 Walker St\, Markdale\, ON\, N0C 1H0\, Canada
CATEGORIES:Kids
ATTACH;FMTTYPE=image/webp:https://ghpl.ca/wp-content/uploads/2025/02/Untitled-design-20.webp
ORGANIZER;CN="Michelle Campbell":MAILTO:mcampbell@ghpl.ca
END:VEVENT
BEGIN:VEVENT
DTSTART;TZID=America/Toronto:20260509T100000
DTEND;TZID=America/Toronto:20260509T103000
DTSTAMP:20260423T111602
CREATED:20260417T185604Z
LAST-MODIFIED:20260417T185604Z
UID:10000727-1778320800-1778322600@ghpl.ca
SUMMARY:Mother's Day Mug-Making (TIMESLOT 1)
DESCRIPTION:Celebrate Mother’s Day with a handmade gift straight from the heart! In this fun\, hands-on program\, participants will use our Makerspace equipment to design and create a one-of-a-kind custom mug for Mom (or another special caregiver). \n\nSessions are available in 30‑minute time slots\, limit of three people per session.  *Please register each participant individually!*\nCost: $5 per mug (cash only). \nSpaces are limited – register early to secure your preferred time! \n\n\n 
URL:https://ghpl.ca/event/mothers-day-mug-making-timeslot-1/
LOCATION:Markdale Branch\, Grey Highlands Public Library - Markdale 75 Walker St\, Markdale\, ON\, N0C 1H0\, Canada
CATEGORIES:Kids
ATTACH;FMTTYPE=image/webp:https://ghpl.ca/wp-content/uploads/2026/04/Untitled-design-2026-04-17T145515.885.webp
ORGANIZER;CN="Michelle Campbell":MAILTO:mcampbell@ghpl.ca
END:VEVENT
BEGIN:VEVENT
DTSTART;TZID=America/Toronto:20260509T103000
DTEND;TZID=America/Toronto:20260509T110000
DTSTAMP:20260423T111602
CREATED:20260417T185728Z
LAST-MODIFIED:20260417T185728Z
UID:10000728-1778322600-1778324400@ghpl.ca
SUMMARY:Mother's Day Mug-Making (TIMESLOT 2)
DESCRIPTION:Celebrate Mother’s Day with a handmade gift straight from the heart! In this fun\, hands-on program\, participants will use our Makerspace equipment to design and create a one-of-a-kind custom mug for Mom (or another special caregiver). \n\nSessions are available in 30‑minute time slots\, limit of three people per session.  *Please register each participant individually!*\nCost: $5 per mug (cash only). \nSpaces are limited – register early to secure your preferred time! \n\n\n 
URL:https://ghpl.ca/event/mothers-day-mug-making-timeslot-2/
LOCATION:Markdale Branch\, Grey Highlands Public Library - Markdale 75 Walker St\, Markdale\, ON\, N0C 1H0\, Canada
CATEGORIES:Kids
ATTACH;FMTTYPE=image/webp:https://ghpl.ca/wp-content/uploads/2026/04/Untitled-design-2026-04-17T145515.885.webp
ORGANIZER;CN="Michelle Campbell":MAILTO:mcampbell@ghpl.ca
END:VEVENT
BEGIN:VEVENT
DTSTART;TZID=America/Toronto:20260509T110000
DTEND;TZID=America/Toronto:20260509T113000
DTSTAMP:20260423T111602
CREATED:20260417T185833Z
LAST-MODIFIED:20260417T185833Z
UID:10000729-1778324400-1778326200@ghpl.ca
SUMMARY:Mother's Day Mug-Making (TIMESLOT 3)
DESCRIPTION:Celebrate Mother’s Day with a handmade gift straight from the heart! In this fun\, hands-on program\, participants will use our Makerspace equipment to design and create a one-of-a-kind custom mug for Mom (or another special caregiver). \n\nSessions are available in 30‑minute time slots\, limit of three people per session.  *Please register each participant individually!*\nCost: $5 per mug (cash only). \nSpaces are limited – register early to secure your preferred time! \n\n\n 
URL:https://ghpl.ca/event/mothers-day-mug-making-timeslot-3/
LOCATION:Markdale Branch\, Grey Highlands Public Library - Markdale 75 Walker St\, Markdale\, ON\, N0C 1H0\, Canada
CATEGORIES:Kids
ATTACH;FMTTYPE=image/webp:https://ghpl.ca/wp-content/uploads/2026/04/Untitled-design-2026-04-17T145515.885.webp
ORGANIZER;CN="Michelle Campbell":MAILTO:mcampbell@ghpl.ca
END:VEVENT
BEGIN:VEVENT
DTSTART;TZID=America/Toronto:20260509T113000
DTEND;TZID=America/Toronto:20260509T120000
DTSTAMP:20260423T111602
CREATED:20260417T185952Z
LAST-MODIFIED:20260417T185952Z
UID:10000730-1778326200-1778328000@ghpl.ca
SUMMARY:Mother's Day Mug-Making (TIMESLOT 4)
DESCRIPTION:Celebrate Mother’s Day with a handmade gift straight from the heart! In this fun\, hands-on program\, participants will use our Makerspace equipment to design and create a one-of-a-kind custom mug for Mom (or another special caregiver). \n\nSessions are available in 30‑minute time slots\, limit of three people per session.  *Please register each participant individually!*\nCost: $5 per mug (cash only). \nSpaces are limited – register early to secure your preferred time! \n\n\n 
URL:https://ghpl.ca/event/mothers-day-mug-making-timeslot-4/
LOCATION:Markdale Branch\, Grey Highlands Public Library - Markdale 75 Walker St\, Markdale\, ON\, N0C 1H0\, Canada
CATEGORIES:Kids
ATTACH;FMTTYPE=image/webp:https://ghpl.ca/wp-content/uploads/2026/04/Untitled-design-2026-04-17T145515.885.webp
ORGANIZER;CN="Michelle Campbell":MAILTO:mcampbell@ghpl.ca
END:VEVENT
BEGIN:VEVENT
DTSTART;TZID=America/Toronto:20260509T120000
DTEND;TZID=America/Toronto:20260509T123000
DTSTAMP:20260423T111602
CREATED:20260417T190849Z
LAST-MODIFIED:20260417T190849Z
UID:10000731-1778328000-1778329800@ghpl.ca
SUMMARY:Mother's Day Mug-Making (TIMESLOT 5)
DESCRIPTION:Celebrate Mother’s Day with a handmade gift straight from the heart! In this fun\, hands-on program\, participants will use our Makerspace equipment to design and create a one-of-a-kind custom mug for Mom (or another special caregiver). \n\nSessions are available in 30‑minute time slots\, limit of three people per session.  *Please register each participant individually!*\nCost: $5 per mug (cash only). \nSpaces are limited – register early to secure your preferred time! \n\n\n 
URL:https://ghpl.ca/event/mothers-day-mug-making-timeslot-5/
LOCATION:Markdale Branch\, Grey Highlands Public Library - Markdale 75 Walker St\, Markdale\, ON\, N0C 1H0\, Canada
CATEGORIES:Kids
ATTACH;FMTTYPE=image/webp:https://ghpl.ca/wp-content/uploads/2026/04/Untitled-design-2026-04-17T145515.885.webp
ORGANIZER;CN="Michelle Campbell":MAILTO:mcampbell@ghpl.ca
END:VEVENT
BEGIN:VEVENT
DTSTART;TZID=America/Toronto:20260509T123000
DTEND;TZID=America/Toronto:20260509T130000
DTSTAMP:20260423T111602
CREATED:20260417T191002Z
LAST-MODIFIED:20260417T191002Z
UID:10000732-1778329800-1778331600@ghpl.ca
SUMMARY:Mother's Day Mug-Making (TIMESLOT 6)
DESCRIPTION:Celebrate Mother’s Day with a handmade gift straight from the heart! In this fun\, hands-on program\, participants will use our Makerspace equipment to design and create a one-of-a-kind custom mug for Mom (or another special caregiver). \n\nSessions are available in 30‑minute time slots\, limit of three people per session.  *Please register each participant individually!*\nCost: $5 per mug (cash only). \nSpaces are limited – register early to secure your preferred time! \n\n\n 
URL:https://ghpl.ca/event/mothers-day-mug-making-timeslot-6/
LOCATION:Markdale Branch\, Grey Highlands Public Library - Markdale 75 Walker St\, Markdale\, ON\, N0C 1H0\, Canada
CATEGORIES:Kids
ATTACH;FMTTYPE=image/webp:https://ghpl.ca/wp-content/uploads/2026/04/Untitled-design-2026-04-17T145515.885.webp
ORGANIZER;CN="Michelle Campbell":MAILTO:mcampbell@ghpl.ca
END:VEVENT
BEGIN:VEVENT
DTSTART;TZID=America/Toronto:20260509T130000
DTEND;TZID=America/Toronto:20260509T133000
DTSTAMP:20260423T111602
CREATED:20260417T191116Z
LAST-MODIFIED:20260417T191229Z
UID:10000733-1778331600-1778333400@ghpl.ca
SUMMARY:Mother's Day Mug-Making (TIMESLOT 7)
DESCRIPTION:Celebrate Mother’s Day with a handmade gift straight from the heart! In this fun\, hands-on program\, participants will use our Makerspace equipment to design and create a one-of-a-kind custom mug for Mom (or another special caregiver). \n\nSessions are available in 30‑minute time slots\, limit of three people per session.  *Please register each participant individually!*\nCost: $5 per mug (cash only). \nSpaces are limited – register early to secure your preferred time! \n\n\n 
URL:https://ghpl.ca/event/mothers-day-mug-making-timeslot-7/
LOCATION:Markdale Branch\, Grey Highlands Public Library - Markdale 75 Walker St\, Markdale\, ON\, N0C 1H0\, Canada
CATEGORIES:Kids
ATTACH;FMTTYPE=image/webp:https://ghpl.ca/wp-content/uploads/2026/04/Untitled-design-2026-04-17T145515.885.webp
ORGANIZER;CN="Michelle Campbell":MAILTO:mcampbell@ghpl.ca
END:VEVENT
BEGIN:VEVENT
DTSTART;TZID=America/Toronto:20260509T133000
DTEND;TZID=America/Toronto:20260509T140000
DTSTAMP:20260423T111602
CREATED:20260417T191346Z
LAST-MODIFIED:20260417T191346Z
UID:10000734-1778333400-1778335200@ghpl.ca
SUMMARY:Mother's Day Mug-Making (TIMESLOT 8)
DESCRIPTION:Celebrate Mother’s Day with a handmade gift straight from the heart! In this fun\, hands-on program\, participants will use our Makerspace equipment to design and create a one-of-a-kind custom mug for Mom (or another special caregiver). \n\nSessions are available in 30‑minute time slots\, limit of three people per session.  *Please register each participant individually!*\nCost: $5 per mug (cash only). \nSpaces are limited – register early to secure your preferred time! \n\n\n 
URL:https://ghpl.ca/event/mothers-day-mug-making-timeslot-8/
LOCATION:Markdale Branch\, Grey Highlands Public Library - Markdale 75 Walker St\, Markdale\, ON\, N0C 1H0\, Canada
CATEGORIES:Kids
ATTACH;FMTTYPE=image/webp:https://ghpl.ca/wp-content/uploads/2026/04/Untitled-design-2026-04-17T145515.885.webp
ORGANIZER;CN="Michelle Campbell":MAILTO:mcampbell@ghpl.ca
END:VEVENT
END:VCALENDAR