BEGIN:VCALENDAR
VERSION:2.0
PRODID:-//Grey Highlands Public Library - ECPv6.15.20//NONSGML v1.0//EN
CALSCALE:GREGORIAN
METHOD:PUBLISH
X-WR-CALNAME:Grey Highlands Public Library
X-ORIGINAL-URL:https://ghpl.ca
X-WR-CALDESC:Events for Grey Highlands Public Library
REFRESH-INTERVAL;VALUE=DURATION:PT1H
X-Robots-Tag:noindex
X-PUBLISHED-TTL:PT1H
BEGIN:VTIMEZONE
TZID:America/Toronto
BEGIN:DAYLIGHT
TZOFFSETFROM:-0500
TZOFFSETTO:-0400
TZNAME:EDT
DTSTART:20250309T070000
END:DAYLIGHT
BEGIN:STANDARD
TZOFFSETFROM:-0400
TZOFFSETTO:-0500
TZNAME:EST
DTSTART:20251102T060000
END:STANDARD
BEGIN:DAYLIGHT
TZOFFSETFROM:-0500
TZOFFSETTO:-0400
TZNAME:EDT
DTSTART:20260308T070000
END:DAYLIGHT
BEGIN:STANDARD
TZOFFSETFROM:-0400
TZOFFSETTO:-0500
TZNAME:EST
DTSTART:20261101T060000
END:STANDARD
BEGIN:DAYLIGHT
TZOFFSETFROM:-0500
TZOFFSETTO:-0400
TZNAME:EDT
DTSTART:20270314T070000
END:DAYLIGHT
BEGIN:STANDARD
TZOFFSETFROM:-0400
TZOFFSETTO:-0500
TZNAME:EST
DTSTART:20271107T060000
END:STANDARD
END:VTIMEZONE
BEGIN:VEVENT
DTSTART;TZID=America/Toronto:20260421T180000
DTEND;TZID=America/Toronto:20260421T193000
DTSTAMP:20260421T220713
CREATED:20260324T191316Z
LAST-MODIFIED:20260410T144718Z
UID:10000692-1776794400-1776799800@ghpl.ca
SUMMARY:Creation Station: Bas-Relief Sculpture
DESCRIPTION:Creation Station: Bas‑Relief Sculpture \n\nJoin the team at Creation Station and discover the art of bas‑relief – a sculptural technique where designs are slightly raised to create subtle depth and texture. Using simple\, accessible materials\, participants will create their own three‑dimensional artwork. No experience is needed and all materials are provided. This program is open to ages 8 and up (ages 8-12 must be accompanied by an adult) and is led by talented local artists. \nRegistration is required. \n 
URL:https://ghpl.ca/event/creation-station-bas-relief-sculpture/
LOCATION:Flesherton Branch\, Grey Highlands Public Library - Flesherton 101 Highland Drive\, Flesherton\, ON\, N0C 1E0\, Canada
CATEGORIES:Adult
ATTACH;FMTTYPE=image/webp:https://ghpl.ca/wp-content/uploads/2026/03/Untitled-design-2026-03-24T151006.122.webp
ORGANIZER;CN="Angela Mason":MAILTO:amason@ghpl.ca
END:VEVENT
BEGIN:VEVENT
DTSTART;TZID=America/Toronto:20260421T103000
DTEND;TZID=America/Toronto:20260421T113000
DTSTAMP:20260421T220713
CREATED:20250422T160940Z
LAST-MODIFIED:20251022T185346Z
UID:10000121-1776767400-1776771000@ghpl.ca
SUMMARY:Family Storytime (Flesherton)
DESCRIPTION:Join us at the Flesherton branch for crafts\, songs and stories! \nNo registration required. \n 
URL:https://ghpl.ca/event/family-storytime-3/2026-04-21/
LOCATION:Flesherton Branch\, Grey Highlands Public Library - Flesherton 101 Highland Drive\, Flesherton\, ON\, N0C 1E0\, Canada
CATEGORIES:Kids
ATTACH;FMTTYPE=image/webp:https://ghpl.ca/wp-content/uploads/2025/02/Untitled-design-20.webp
ORGANIZER;CN="Michelle Campbell":MAILTO:mcampbell@ghpl.ca
END:VEVENT
BEGIN:VEVENT
DTSTART;TZID=America/Toronto:20260415T114500
DTEND;TZID=America/Toronto:20260415T122500
DTSTAMP:20260421T220713
CREATED:20250912T200048Z
LAST-MODIFIED:20260305T171020Z
UID:10000324-1776253500-1776255900@ghpl.ca
SUMMARY:Teen Writers Club
DESCRIPTION:Looking for a creative outlet and a community that gets your love of words? Join us for Teen Writers Club\, a biweekly lunchtime hangout where teens come together to share poems\, swap book recommendations\, and dive into journal writing—all in a chill\, welcoming space. \nCome write\, read\, and connect with us.  Your story starts here!
URL:https://ghpl.ca/event/teen-writers-club/2026-04-15/
LOCATION:Flesherton Branch\, Grey Highlands Public Library - Flesherton 101 Highland Drive\, Flesherton\, ON\, N0C 1E0\, Canada
CATEGORIES:Teens
ATTACH;FMTTYPE=image/webp:https://ghpl.ca/wp-content/uploads/2025/09/Untitled-design-100.webp
ORGANIZER;CN="Angela Mason":MAILTO:amason@ghpl.ca
END:VEVENT
BEGIN:VEVENT
DTSTART;TZID=America/Toronto:20260414T140000
DTEND;TZID=America/Toronto:20260414T153000
DTSTAMP:20260421T220713
CREATED:20260220T205213Z
LAST-MODIFIED:20260220T205213Z
UID:10000478-1776175200-1776180600@ghpl.ca
SUMMARY:BYOB Book Club
DESCRIPTION:Meet us at the Flesherton Branch for our Bring-Your-Own Book Club!  Grab your current read or your favourite book and come chat all things books with us.  Don’t miss out on this opportunity to meet new people and add to your want-to-read list! \nDrop-ins welcome\, no registration required. \n 
URL:https://ghpl.ca/event/byob-book-club/2026-04-14/
LOCATION:Flesherton Branch\, Grey Highlands Public Library - Flesherton 101 Highland Drive\, Flesherton\, ON\, N0C 1E0\, Canada
CATEGORIES:Adult
ATTACH;FMTTYPE=image/webp:https://ghpl.ca/wp-content/uploads/2025/02/istockphoto-1389876635-612x612-1.webp
ORGANIZER;CN="Angela Mason":MAILTO:amason@ghpl.ca
END:VEVENT
BEGIN:VEVENT
DTSTART;TZID=America/Toronto:20260414T103000
DTEND;TZID=America/Toronto:20260414T113000
DTSTAMP:20260421T220713
CREATED:20250422T160940Z
LAST-MODIFIED:20251022T185346Z
UID:10000120-1776162600-1776166200@ghpl.ca
SUMMARY:Family Storytime (Flesherton)
DESCRIPTION:Join us at the Flesherton branch for crafts\, songs and stories! \nNo registration required. \n 
URL:https://ghpl.ca/event/family-storytime-3/2026-04-14/
LOCATION:Flesherton Branch\, Grey Highlands Public Library - Flesherton 101 Highland Drive\, Flesherton\, ON\, N0C 1E0\, Canada
CATEGORIES:Kids
ATTACH;FMTTYPE=image/webp:https://ghpl.ca/wp-content/uploads/2025/02/Untitled-design-20.webp
ORGANIZER;CN="Michelle Campbell":MAILTO:mcampbell@ghpl.ca
END:VEVENT
BEGIN:VEVENT
DTSTART;TZID=America/Toronto:20260411T100000
DTEND;TZID=America/Toronto:20260411T110000
DTSTAMP:20260421T220713
CREATED:20260401T145222Z
LAST-MODIFIED:20260401T145223Z
UID:10000663-1775901600-1775905200@ghpl.ca
SUMMARY:French Conversation Circle
DESCRIPTION:Practice speaking French in a relaxed friendly environment at our Conversation Circle\, facilitated by Tanjah Karvonen\, French tutor since 2000. All ages and experience levels welcome. \nParlez français dans un environnement accueillant et sans stress. Cercle de conversation facilité par Tanjah Karvonen\, tutrice de français depuis 2000. Tous les âges sont les bienvenus. \n 
URL:https://ghpl.ca/event/french-conversation-circle-2/
LOCATION:Flesherton Branch\, Grey Highlands Public Library - Flesherton 101 Highland Drive\, Flesherton\, ON\, N0C 1E0\, Canada
CATEGORIES:Adult
ATTACH;FMTTYPE=image/webp:https://ghpl.ca/wp-content/uploads/2026/02/your-design-here-3.webp
ORGANIZER;CN="Angela Mason":MAILTO:amason@ghpl.ca
END:VEVENT
BEGIN:VEVENT
DTSTART;TZID=America/Toronto:20260410T130000
DTEND;TZID=America/Toronto:20260410T140000
DTSTAMP:20260421T220713
CREATED:20260324T180824Z
LAST-MODIFIED:20260401T145005Z
UID:10000691-1775826000-1775829600@ghpl.ca
SUMMARY:Gardening with Kanopy!
DESCRIPTION:Gardening with Kanopy \n\nLearn how to use Kanopy to access The Great Courses collection and explore high‑quality instructional videos\, documentaries\, and series – all free with your GHPL membership! This session will guide you through accessing and navigating Kanopy\, using gardening as a seasonal example. Come discover something new and see how Kanopy can help you grow your skills. \nRegistration required. \n 
URL:https://ghpl.ca/event/gardening-with-kanopy/
LOCATION:Flesherton Branch\, Grey Highlands Public Library - Flesherton 101 Highland Drive\, Flesherton\, ON\, N0C 1E0\, Canada
CATEGORIES:Adult
ATTACH;FMTTYPE=image/webp:https://ghpl.ca/wp-content/uploads/2026/03/Untitled-design-2026-03-24T140739.854.webp
ORGANIZER;CN="Angela Mason":MAILTO:amason@ghpl.ca
END:VEVENT
BEGIN:VEVENT
DTSTART;TZID=America/Toronto:20260407T103000
DTEND;TZID=America/Toronto:20260407T113000
DTSTAMP:20260421T220713
CREATED:20250422T160940Z
LAST-MODIFIED:20251022T185346Z
UID:10000119-1775557800-1775561400@ghpl.ca
SUMMARY:Family Storytime (Flesherton)
DESCRIPTION:Join us at the Flesherton branch for crafts\, songs and stories! \nNo registration required. \n 
URL:https://ghpl.ca/event/family-storytime-3/2026-04-07/
LOCATION:Flesherton Branch\, Grey Highlands Public Library - Flesherton 101 Highland Drive\, Flesherton\, ON\, N0C 1E0\, Canada
CATEGORIES:Kids
ATTACH;FMTTYPE=image/webp:https://ghpl.ca/wp-content/uploads/2025/02/Untitled-design-20.webp
ORGANIZER;CN="Michelle Campbell":MAILTO:mcampbell@ghpl.ca
END:VEVENT
BEGIN:VEVENT
DTSTART;TZID=America/Toronto:20260401T114500
DTEND;TZID=America/Toronto:20260401T122500
DTSTAMP:20260421T220713
CREATED:20250912T200048Z
LAST-MODIFIED:20260305T171020Z
UID:10000323-1775043900-1775046300@ghpl.ca
SUMMARY:Teen Writers Club
DESCRIPTION:Looking for a creative outlet and a community that gets your love of words? Join us for Teen Writers Club\, a biweekly lunchtime hangout where teens come together to share poems\, swap book recommendations\, and dive into journal writing—all in a chill\, welcoming space. \nCome write\, read\, and connect with us.  Your story starts here!
URL:https://ghpl.ca/event/teen-writers-club/2026-04-01/
LOCATION:Flesherton Branch\, Grey Highlands Public Library - Flesherton 101 Highland Drive\, Flesherton\, ON\, N0C 1E0\, Canada
CATEGORIES:Teens
ATTACH;FMTTYPE=image/webp:https://ghpl.ca/wp-content/uploads/2025/09/Untitled-design-100.webp
ORGANIZER;CN="Angela Mason":MAILTO:amason@ghpl.ca
END:VEVENT
BEGIN:VEVENT
DTSTART;TZID=America/Toronto:20260331T140000
DTEND;TZID=America/Toronto:20260331T153000
DTSTAMP:20260421T220713
CREATED:20260220T205213Z
LAST-MODIFIED:20260220T205213Z
UID:10000477-1774965600-1774971000@ghpl.ca
SUMMARY:BYOB Book Club
DESCRIPTION:Meet us at the Flesherton Branch for our Bring-Your-Own Book Club!  Grab your current read or your favourite book and come chat all things books with us.  Don’t miss out on this opportunity to meet new people and add to your want-to-read list! \nDrop-ins welcome\, no registration required. \n 
URL:https://ghpl.ca/event/byob-book-club/2026-03-31/
LOCATION:Flesherton Branch\, Grey Highlands Public Library - Flesherton 101 Highland Drive\, Flesherton\, ON\, N0C 1E0\, Canada
CATEGORIES:Adult
ATTACH;FMTTYPE=image/webp:https://ghpl.ca/wp-content/uploads/2025/02/istockphoto-1389876635-612x612-1.webp
ORGANIZER;CN="Angela Mason":MAILTO:amason@ghpl.ca
END:VEVENT
BEGIN:VEVENT
DTSTART;TZID=America/Toronto:20260331T103000
DTEND;TZID=America/Toronto:20260331T113000
DTSTAMP:20260421T220713
CREATED:20250422T160940Z
LAST-MODIFIED:20251022T185346Z
UID:10000118-1774953000-1774956600@ghpl.ca
SUMMARY:Family Storytime (Flesherton)
DESCRIPTION:Join us at the Flesherton branch for crafts\, songs and stories! \nNo registration required. \n 
URL:https://ghpl.ca/event/family-storytime-3/2026-03-31/
LOCATION:Flesherton Branch\, Grey Highlands Public Library - Flesherton 101 Highland Drive\, Flesherton\, ON\, N0C 1E0\, Canada
CATEGORIES:Kids
ATTACH;FMTTYPE=image/webp:https://ghpl.ca/wp-content/uploads/2025/02/Untitled-design-20.webp
ORGANIZER;CN="Michelle Campbell":MAILTO:mcampbell@ghpl.ca
END:VEVENT
BEGIN:VEVENT
DTSTART;TZID=America/Toronto:20260328T100000
DTEND;TZID=America/Toronto:20260328T110000
DTSTAMP:20260421T220713
CREATED:20260220T214941Z
LAST-MODIFIED:20260324T185240Z
UID:10000662-1774692000-1774695600@ghpl.ca
SUMMARY:French Conversation Circle
DESCRIPTION:Practice speaking French in a relaxed friendly environment at our Conversation Circle\, facilitated by Tanjah Karvonen\, French tutor since 2000. All ages and experience levels welcome. \nParlez français dans un environnement accueillant et sans stress. Cercle de conversation facilité par Tanjah Karvonen\, tutrice de français depuis 2000. Tous les âges sont les bienvenus. \n 
URL:https://ghpl.ca/event/french-conversation-circle/2026-03-28/
LOCATION:Flesherton Branch\, Grey Highlands Public Library - Flesherton 101 Highland Drive\, Flesherton\, ON\, N0C 1E0\, Canada
CATEGORIES:Adult
ATTACH;FMTTYPE=image/webp:https://ghpl.ca/wp-content/uploads/2026/02/your-design-here-3.webp
ORGANIZER;CN="Angela Mason":MAILTO:amason@ghpl.ca
END:VEVENT
BEGIN:VEVENT
DTSTART;TZID=America/Toronto:20260325T114500
DTEND;TZID=America/Toronto:20260325T122500
DTSTAMP:20260421T220713
CREATED:20250912T200048Z
LAST-MODIFIED:20260305T171020Z
UID:10000656-1774439100-1774441500@ghpl.ca
SUMMARY:Teen Writers Club
DESCRIPTION:Looking for a creative outlet and a community that gets your love of words? Join us for Teen Writers Club\, a biweekly lunchtime hangout where teens come together to share poems\, swap book recommendations\, and dive into journal writing—all in a chill\, welcoming space. \nCome write\, read\, and connect with us.  Your story starts here!
URL:https://ghpl.ca/event/teen-writers-club/2026-03-25/
LOCATION:Flesherton Branch\, Grey Highlands Public Library - Flesherton 101 Highland Drive\, Flesherton\, ON\, N0C 1E0\, Canada
CATEGORIES:Teens
ATTACH;FMTTYPE=image/webp:https://ghpl.ca/wp-content/uploads/2025/09/Untitled-design-100.webp
ORGANIZER;CN="Angela Mason":MAILTO:amason@ghpl.ca
END:VEVENT
BEGIN:VEVENT
DTSTART;TZID=America/Toronto:20260324T103000
DTEND;TZID=America/Toronto:20260324T113000
DTSTAMP:20260421T220713
CREATED:20250422T160940Z
LAST-MODIFIED:20251022T185346Z
UID:10000117-1774348200-1774351800@ghpl.ca
SUMMARY:Family Storytime (Flesherton)
DESCRIPTION:Join us at the Flesherton branch for crafts\, songs and stories! \nNo registration required. \n 
URL:https://ghpl.ca/event/family-storytime-3/2026-03-24/
LOCATION:Flesherton Branch\, Grey Highlands Public Library - Flesherton 101 Highland Drive\, Flesherton\, ON\, N0C 1E0\, Canada
CATEGORIES:Kids
ATTACH;FMTTYPE=image/webp:https://ghpl.ca/wp-content/uploads/2025/02/Untitled-design-20.webp
ORGANIZER;CN="Michelle Campbell":MAILTO:mcampbell@ghpl.ca
END:VEVENT
BEGIN:VEVENT
DTSTART;TZID=America/Toronto:20260317T140000
DTEND;TZID=America/Toronto:20260317T153000
DTSTAMP:20260421T220713
CREATED:20260220T205213Z
LAST-MODIFIED:20260220T205213Z
UID:10000476-1773756000-1773761400@ghpl.ca
SUMMARY:BYOB Book Club
DESCRIPTION:Meet us at the Flesherton Branch for our Bring-Your-Own Book Club!  Grab your current read or your favourite book and come chat all things books with us.  Don’t miss out on this opportunity to meet new people and add to your want-to-read list! \nDrop-ins welcome\, no registration required. \n 
URL:https://ghpl.ca/event/byob-book-club/2026-03-17/
LOCATION:Flesherton Branch\, Grey Highlands Public Library - Flesherton 101 Highland Drive\, Flesherton\, ON\, N0C 1E0\, Canada
CATEGORIES:Adult
ATTACH;FMTTYPE=image/webp:https://ghpl.ca/wp-content/uploads/2025/02/istockphoto-1389876635-612x612-1.webp
ORGANIZER;CN="Angela Mason":MAILTO:amason@ghpl.ca
END:VEVENT
BEGIN:VEVENT
DTSTART;TZID=America/Toronto:20260317T110000
DTEND;TZID=America/Toronto:20260317T120000
DTSTAMP:20260421T220713
CREATED:20260302T121625Z
LAST-MODIFIED:20260306T214616Z
UID:10000644-1773745200-1773748800@ghpl.ca
SUMMARY:March Break: Lucky Day Art Lab! (Flesherton)
DESCRIPTION:Join us for a fun and festive St. Patrick’s Day craft program!  Registration required. \nThis is a drop-in program – participants can arrive anytime during their registered timeslot and can complete the craft in their own time. \n 
URL:https://ghpl.ca/event/march-break-lucky-day-art-lab-flesherton/
LOCATION:Flesherton Branch\, Grey Highlands Public Library - Flesherton 101 Highland Drive\, Flesherton\, ON\, N0C 1E0\, Canada
CATEGORIES:Kids
ATTACH;FMTTYPE=image/webp:https://ghpl.ca/wp-content/uploads/2025/02/GettyImages-921627090-d1aa6736a87f46b083c88ffe143fe2b4.webp
ORGANIZER;CN="Michelle Campbell":MAILTO:mcampbell@ghpl.ca
END:VEVENT
BEGIN:VEVENT
DTSTART;TZID=America/Toronto:20260317T103000
DTEND;TZID=America/Toronto:20260317T113000
DTSTAMP:20260421T220713
CREATED:20250422T160940Z
LAST-MODIFIED:20251022T185346Z
UID:10000116-1773743400-1773747000@ghpl.ca
SUMMARY:Family Storytime (Flesherton)
DESCRIPTION:Join us at the Flesherton branch for crafts\, songs and stories! \nNo registration required. \n 
URL:https://ghpl.ca/event/family-storytime-3/2026-03-17/
LOCATION:Flesherton Branch\, Grey Highlands Public Library - Flesherton 101 Highland Drive\, Flesherton\, ON\, N0C 1E0\, Canada
CATEGORIES:Kids
ATTACH;FMTTYPE=image/webp:https://ghpl.ca/wp-content/uploads/2025/02/Untitled-design-20.webp
ORGANIZER;CN="Michelle Campbell":MAILTO:mcampbell@ghpl.ca
END:VEVENT
BEGIN:VEVENT
DTSTART;TZID=America/Toronto:20260317T090000
DTEND;TZID=America/Toronto:20260321T170000
DTSTAMP:20260421T220713
CREATED:20260226T215654Z
LAST-MODIFIED:20260302T115550Z
UID:10000643-1773738000-1774112400@ghpl.ca
SUMMARY:March Break: Paint a Pot\, Plant a Seed!
DESCRIPTION:Happening at both our Markdale and Flesherton branches! \n\nDrop in anytime over March Break to paint your own pot\, then choose seeds from our Seed Library to take home and grow. \n*Limit of one pot per person. Available while supplies last.* \nNo registration required.
URL:https://ghpl.ca/event/march-break-pot-painting/
LOCATION:Flesherton Branch\, Grey Highlands Public Library - Flesherton 101 Highland Drive\, Flesherton\, ON\, N0C 1E0\, Canada
CATEGORIES:Kids
ATTACH;FMTTYPE=image/webp:https://ghpl.ca/wp-content/uploads/2026/02/Untitled-design-2026-02-26T165557.385.webp
ORGANIZER;CN="Michelle Campbell":MAILTO:mcampbell@ghpl.ca
END:VEVENT
BEGIN:VEVENT
DTSTART;TZID=America/Toronto:20260314T100000
DTEND;TZID=America/Toronto:20260314T110000
DTSTAMP:20260421T220713
CREATED:20260220T214941Z
LAST-MODIFIED:20260324T185240Z
UID:10000638-1773482400-1773486000@ghpl.ca
SUMMARY:French Conversation Circle
DESCRIPTION:Practice speaking French in a relaxed friendly environment at our Conversation Circle\, facilitated by Tanjah Karvonen\, French tutor since 2000. All ages and experience levels welcome. \nParlez français dans un environnement accueillant et sans stress. Cercle de conversation facilité par Tanjah Karvonen\, tutrice de français depuis 2000. Tous les âges sont les bienvenus. \n 
URL:https://ghpl.ca/event/french-conversation-circle/2026-03-14/
LOCATION:Flesherton Branch\, Grey Highlands Public Library - Flesherton 101 Highland Drive\, Flesherton\, ON\, N0C 1E0\, Canada
CATEGORIES:Adult
ATTACH;FMTTYPE=image/webp:https://ghpl.ca/wp-content/uploads/2026/02/your-design-here-3.webp
ORGANIZER;CN="Angela Mason":MAILTO:amason@ghpl.ca
END:VEVENT
BEGIN:VEVENT
DTSTART;TZID=America/Toronto:20260313T130000
DTEND;TZID=America/Toronto:20260313T150000
DTSTAMP:20260421T220713
CREATED:20260220T214533Z
LAST-MODIFIED:20260220T214533Z
UID:10000637-1773406800-1773414000@ghpl.ca
SUMMARY:Get to Know Your iPhone
DESCRIPTION:Bring your iPhone and your questions! \nThis friendly\, judgment-free session is perfect for anyone looking to feel more confident using their device. Whether you’re brand new to iPhones or just want to learn a few new tips and tricks\, we’ll walk through the basics and tailor the session to the needs of the group. \nJoin us for a relaxed\, supportive learning experience.
URL:https://ghpl.ca/event/get-to-know-your-iphone-3/
LOCATION:Flesherton Branch\, Grey Highlands Public Library - Flesherton 101 Highland Drive\, Flesherton\, ON\, N0C 1E0\, Canada
CATEGORIES:Adult
ATTACH;FMTTYPE=image/webp:https://ghpl.ca/wp-content/uploads/2025/10/Untitled-design-2025-10-24T120352.744.webp
ORGANIZER;CN="Angela Mason":MAILTO:amason@ghpl.ca
END:VEVENT
BEGIN:VEVENT
DTSTART;TZID=America/Toronto:20260310T180000
DTEND;TZID=America/Toronto:20260310T193000
DTSTAMP:20260421T220713
CREATED:20260220T212334Z
LAST-MODIFIED:20260306T214656Z
UID:10000607-1773165600-1773171000@ghpl.ca
SUMMARY:Creation Station: Exploration with Fabric
DESCRIPTION:Join us for a cozy and creative fabric‑focused workshop! In this hands‑on session\, you’ll piece together textiles and add stitched embellishments to create your own wall hanging or table runner. \n\nNo experience is needed\, and all materials are provided. This welcoming workshop is led by talented Flesherton artists. \nFor ages 8 through adult (ages 8–12 must be accompanied by an adult).  \n***Please register each participant separately.***
URL:https://ghpl.ca/event/creation-station-exploration-with-fabric/
LOCATION:Flesherton Branch\, Grey Highlands Public Library - Flesherton 101 Highland Drive\, Flesherton\, ON\, N0C 1E0\, Canada
CATEGORIES:Adult
ATTACH;FMTTYPE=image/webp:https://ghpl.ca/wp-content/uploads/2026/02/Untitled-design-2026-02-20T162249.667.webp
ORGANIZER;CN="Angela Mason":MAILTO:amason@ghpl.ca
END:VEVENT
BEGIN:VEVENT
DTSTART;TZID=America/Toronto:20260310T103000
DTEND;TZID=America/Toronto:20260310T113000
DTSTAMP:20260421T220713
CREATED:20250422T160940Z
LAST-MODIFIED:20251022T185346Z
UID:10000115-1773138600-1773142200@ghpl.ca
SUMMARY:Family Storytime (Flesherton)
DESCRIPTION:Join us at the Flesherton branch for crafts\, songs and stories! \nNo registration required. \n 
URL:https://ghpl.ca/event/family-storytime-3/2026-03-10/
LOCATION:Flesherton Branch\, Grey Highlands Public Library - Flesherton 101 Highland Drive\, Flesherton\, ON\, N0C 1E0\, Canada
CATEGORIES:Kids
ATTACH;FMTTYPE=image/webp:https://ghpl.ca/wp-content/uploads/2025/02/Untitled-design-20.webp
ORGANIZER;CN="Michelle Campbell":MAILTO:mcampbell@ghpl.ca
END:VEVENT
BEGIN:VEVENT
DTSTART;TZID=America/Toronto:20260310T080000
DTEND;TZID=America/Toronto:20260314T170000
DTSTAMP:20260421T220713
CREATED:20260224T163009Z
LAST-MODIFIED:20260224T163106Z
UID:10000640-1773129600-1773507600@ghpl.ca
SUMMARY:Paralympics Watch Parties!
DESCRIPTION:Join us at our Markdale and Flesherton Branches to cheer on Team Canada at the Paralympics! Enjoy hot chocolate\, popcorn\, and plenty of community spirit while you watch your favourite events on our big screens. \nHere is a detailed list of the events we’ll be showing: \n\nTuesday\, March 10: Para Hockey\, Canada vs. Czechia | 12:05pm – 2:05pm\nWednesday\, March 11: Wheelchair Curling\, Canada vs. Slovakia | 3:05pm – 5:00pm (3:30pm – 5:00pm in Markdale)\nThursday\, March 12: Wheelchair Curling\, Canada vs. USA | 1:35pm – 4:05pm (1:35pm – 3:30pm in Markdale)\nFriday\, March 13: Para Hockey\, Semi-Finals | 2:05pm – 4:05pm\n\nNo registration required\, drop-ins welcome.
URL:https://ghpl.ca/event/paralympics-watch-parties/
LOCATION:Flesherton Branch\, Grey Highlands Public Library - Flesherton 101 Highland Drive\, Flesherton\, ON\, N0C 1E0\, Canada
CATEGORIES:Adult
ATTACH;FMTTYPE=image/webp:https://ghpl.ca/wp-content/uploads/2026/02/1920x1080.webp
ORGANIZER;CN="Angela Mason":MAILTO:amason@ghpl.ca
END:VEVENT
BEGIN:VEVENT
DTSTART;TZID=America/Toronto:20260306T130000
DTEND;TZID=America/Toronto:20260306T143000
DTSTAMP:20260421T220713
CREATED:20260220T211538Z
LAST-MODIFIED:20260225T201240Z
UID:10000606-1772802000-1772807400@ghpl.ca
SUMMARY:Get to Know Your iPhotos
DESCRIPTION:Want to get more out of the photos app on your iPhone? \nThis hands-on workshop will guide you through the basics of taking\, organizing\, and editing pictures in the Photos app. Bring your iPhone and your questions\, and we’ll tailor the session to your needs in a friendly\, collaborative\, and judgment-free environment. \nPlease note: This is not a photography class – it’s a practical session focused on managing and working with your photos in the iPhone Photos app.
URL:https://ghpl.ca/event/get-to-know-your-iphotos/
LOCATION:Flesherton Branch\, Grey Highlands Public Library - Flesherton 101 Highland Drive\, Flesherton\, ON\, N0C 1E0\, Canada
CATEGORIES:Adult
ATTACH;FMTTYPE=image/webp:https://ghpl.ca/wp-content/uploads/2026/02/Untitled-design-2026-02-20T161427.319.webp
ORGANIZER;CN="Angela Mason":MAILTO:amason@ghpl.ca
END:VEVENT
BEGIN:VEVENT
DTSTART;TZID=America/Toronto:20260304T114500
DTEND;TZID=America/Toronto:20260304T122500
DTSTAMP:20260421T220713
CREATED:20250912T200048Z
LAST-MODIFIED:20260305T171020Z
UID:10000321-1772624700-1772627100@ghpl.ca
SUMMARY:Teen Writers Club
DESCRIPTION:Looking for a creative outlet and a community that gets your love of words? Join us for Teen Writers Club\, a biweekly lunchtime hangout where teens come together to share poems\, swap book recommendations\, and dive into journal writing—all in a chill\, welcoming space. \nCome write\, read\, and connect with us.  Your story starts here!
URL:https://ghpl.ca/event/teen-writers-club/2026-03-04/
LOCATION:Flesherton Branch\, Grey Highlands Public Library - Flesherton 101 Highland Drive\, Flesherton\, ON\, N0C 1E0\, Canada
CATEGORIES:Teens
ATTACH;FMTTYPE=image/webp:https://ghpl.ca/wp-content/uploads/2025/09/Untitled-design-100.webp
ORGANIZER;CN="Angela Mason":MAILTO:amason@ghpl.ca
END:VEVENT
BEGIN:VEVENT
DTSTART;TZID=America/Toronto:20260303T140000
DTEND;TZID=America/Toronto:20260303T153000
DTSTAMP:20260421T220713
CREATED:20260225T201156Z
LAST-MODIFIED:20260225T201157Z
UID:10000475-1772546400-1772551800@ghpl.ca
SUMMARY:BYOB Book Club
DESCRIPTION:Meet us at the Flesherton Branch for our Bring-Your-Own Book Club!  Grab your current read or your favourite book and come chat all things books with us.  Don’t miss out on this opportunity to meet new people and add to your want-to-read list! \nDrop-ins welcome\, no registration required. \n 
URL:https://ghpl.ca/event/byob-book-club-2/
LOCATION:Flesherton Branch\, Grey Highlands Public Library - Flesherton 101 Highland Drive\, Flesherton\, ON\, N0C 1E0\, Canada
CATEGORIES:Adult
ATTACH;FMTTYPE=image/webp:https://ghpl.ca/wp-content/uploads/2025/02/istockphoto-1389876635-612x612-1.webp
ORGANIZER;CN="Angela Mason":MAILTO:amason@ghpl.ca
END:VEVENT
BEGIN:VEVENT
DTSTART;TZID=America/Toronto:20260303T103000
DTEND;TZID=America/Toronto:20260303T113000
DTSTAMP:20260421T220713
CREATED:20250422T160940Z
LAST-MODIFIED:20251022T185346Z
UID:10000114-1772533800-1772537400@ghpl.ca
SUMMARY:Family Storytime (Flesherton)
DESCRIPTION:Join us at the Flesherton branch for crafts\, songs and stories! \nNo registration required. \n 
URL:https://ghpl.ca/event/family-storytime-3/2026-03-03/
LOCATION:Flesherton Branch\, Grey Highlands Public Library - Flesherton 101 Highland Drive\, Flesherton\, ON\, N0C 1E0\, Canada
CATEGORIES:Kids
ATTACH;FMTTYPE=image/webp:https://ghpl.ca/wp-content/uploads/2025/02/Untitled-design-20.webp
ORGANIZER;CN="Michelle Campbell":MAILTO:mcampbell@ghpl.ca
END:VEVENT
BEGIN:VEVENT
DTSTART;TZID=America/Toronto:20260224T103000
DTEND;TZID=America/Toronto:20260224T113000
DTSTAMP:20260421T220713
CREATED:20250422T160940Z
LAST-MODIFIED:20251022T185346Z
UID:10000113-1771929000-1771932600@ghpl.ca
SUMMARY:Family Storytime (Flesherton)
DESCRIPTION:Join us at the Flesherton branch for crafts\, songs and stories! \nNo registration required. \n 
URL:https://ghpl.ca/event/family-storytime-3/2026-02-24/
LOCATION:Flesherton Branch\, Grey Highlands Public Library - Flesherton 101 Highland Drive\, Flesherton\, ON\, N0C 1E0\, Canada
CATEGORIES:Kids
ATTACH;FMTTYPE=image/webp:https://ghpl.ca/wp-content/uploads/2025/02/Untitled-design-20.webp
ORGANIZER;CN="Michelle Campbell":MAILTO:mcampbell@ghpl.ca
END:VEVENT
BEGIN:VEVENT
DTSTART;TZID=America/Toronto:20260218T140000
DTEND;TZID=America/Toronto:20260218T163000
DTSTAMP:20260421T220713
CREATED:20251212T212704Z
LAST-MODIFIED:20260217T205800Z
UID:10000405-1771423200-1771432200@ghpl.ca
SUMMARY:Creative Expressions with Terry Shabot
DESCRIPTION:Experience a delightful afternoon of discovery led by local artist Terry Shabot\, where you’ll delve into your individual artistic talents through personal expression. Acrylic paints will be our medium in this program as we begin a fantastic journey together\, awakening our awareness along the way. \nNo painting experience is necessary to have fun. \nParticipants are asked to bring 4-5 hardcopy photos for inspiration. \n 
URL:https://ghpl.ca/event/creative-expressions-with-terry-shabot/
LOCATION:Flesherton Branch\, Grey Highlands Public Library - Flesherton 101 Highland Drive\, Flesherton\, ON\, N0C 1E0\, Canada
CATEGORIES:Adult
ATTACH;FMTTYPE=image/webp:https://ghpl.ca/wp-content/uploads/2025/12/Untitled-design-2025-12-12T162607.858.webp
ORGANIZER;CN="Angela Mason":MAILTO:amason@ghpl.ca
END:VEVENT
BEGIN:VEVENT
DTSTART;TZID=America/Toronto:20260218T114500
DTEND;TZID=America/Toronto:20260218T122500
DTSTAMP:20260421T220713
CREATED:20250912T200048Z
LAST-MODIFIED:20260305T171020Z
UID:10000320-1771415100-1771417500@ghpl.ca
SUMMARY:Teen Writers Club
DESCRIPTION:Looking for a creative outlet and a community that gets your love of words? Join us for Teen Writers Club\, a biweekly lunchtime hangout where teens come together to share poems\, swap book recommendations\, and dive into journal writing—all in a chill\, welcoming space. \nCome write\, read\, and connect with us.  Your story starts here!
URL:https://ghpl.ca/event/teen-writers-club/2026-02-18/
LOCATION:Flesherton Branch\, Grey Highlands Public Library - Flesherton 101 Highland Drive\, Flesherton\, ON\, N0C 1E0\, Canada
CATEGORIES:Teens
ATTACH;FMTTYPE=image/webp:https://ghpl.ca/wp-content/uploads/2025/09/Untitled-design-100.webp
ORGANIZER;CN="Angela Mason":MAILTO:amason@ghpl.ca
END:VEVENT
END:VCALENDAR