BEGIN:VCALENDAR
VERSION:2.0
PRODID:-//Grey Highlands Public Library - ECPv6.15.20//NONSGML v1.0//EN
CALSCALE:GREGORIAN
METHOD:PUBLISH
X-ORIGINAL-URL:https://ghpl.ca
X-WR-CALDESC:Events for Grey Highlands Public Library
REFRESH-INTERVAL;VALUE=DURATION:PT1H
X-Robots-Tag:noindex
X-PUBLISHED-TTL:PT1H
BEGIN:VTIMEZONE
TZID:America/Toronto
BEGIN:DAYLIGHT
TZOFFSETFROM:-0500
TZOFFSETTO:-0400
TZNAME:EDT
DTSTART:20240310T070000
END:DAYLIGHT
BEGIN:STANDARD
TZOFFSETFROM:-0400
TZOFFSETTO:-0500
TZNAME:EST
DTSTART:20241103T060000
END:STANDARD
BEGIN:DAYLIGHT
TZOFFSETFROM:-0500
TZOFFSETTO:-0400
TZNAME:EDT
DTSTART:20250309T070000
END:DAYLIGHT
BEGIN:STANDARD
TZOFFSETFROM:-0400
TZOFFSETTO:-0500
TZNAME:EST
DTSTART:20251102T060000
END:STANDARD
BEGIN:DAYLIGHT
TZOFFSETFROM:-0500
TZOFFSETTO:-0400
TZNAME:EDT
DTSTART:20260308T070000
END:DAYLIGHT
BEGIN:STANDARD
TZOFFSETFROM:-0400
TZOFFSETTO:-0500
TZNAME:EST
DTSTART:20261101T060000
END:STANDARD
BEGIN:DAYLIGHT
TZOFFSETFROM:-0500
TZOFFSETTO:-0400
TZNAME:EDT
DTSTART:20270314T070000
END:DAYLIGHT
BEGIN:STANDARD
TZOFFSETFROM:-0400
TZOFFSETTO:-0500
TZNAME:EST
DTSTART:20271107T060000
END:STANDARD
END:VTIMEZONE
BEGIN:VEVENT
DTSTART;TZID=America/Toronto:20260304T103000
DTEND;TZID=America/Toronto:20260304T113000
DTSTAMP:20260422T063920
CREATED:20250226T142728Z
LAST-MODIFIED:20251217T201307Z
UID:10000174-1772620200-1772623800@ghpl.ca
SUMMARY:Family Storytime (Markdale)
DESCRIPTION:Join us at the Markdale Branch for crafts\, songs and stories! \nNo registration required. \n 
URL:https://ghpl.ca/event/family-storytime-2/2026-03-04/
LOCATION:Markdale Branch\, Grey Highlands Public Library - Markdale 75 Walker St\, Markdale\, ON\, N0C 1H0\, Canada
CATEGORIES:Kids
ATTACH;FMTTYPE=image/webp:https://ghpl.ca/wp-content/uploads/2025/02/Untitled-design-20.webp
ORGANIZER;CN="Michelle Campbell":MAILTO:mcampbell@ghpl.ca
END:VEVENT
BEGIN:VEVENT
DTSTART;TZID=America/Toronto:20260228T100000
DTEND;TZID=America/Toronto:20260228T120000
DTSTAMP:20260422T063920
CREATED:20260225T201120Z
LAST-MODIFIED:20260225T201120Z
UID:10000445-1772272800-1772280000@ghpl.ca
SUMMARY:Needles & Hooks
DESCRIPTION:Join fellow knitters\, crocheters\, cross‑stitchers\, and yarn enthusiasts for a friendly\, relaxed gathering every second Saturday! Bring your current project\, share tips and stories\, or simply enjoy the company of others who love to create. \n\nTea and coffee will be provided — just drop in and stitch awhile! \n 
URL:https://ghpl.ca/event/needles-hooks-2/
LOCATION:Markdale Branch\, Grey Highlands Public Library - Markdale 75 Walker St\, Markdale\, ON\, N0C 1H0\, Canada
CATEGORIES:Adult
ATTACH;FMTTYPE=image/webp:https://ghpl.ca/wp-content/uploads/2026/01/Untitled-design-2026-01-21T153213.591.webp
ORGANIZER;CN="Angela Mason":MAILTO:amason@ghpl.ca
END:VEVENT
BEGIN:VEVENT
DTSTART;TZID=America/Toronto:20260226T153000
DTEND;TZID=America/Toronto:20260226T170000
DTSTAMP:20260422T063920
CREATED:20250819T180049Z
LAST-MODIFIED:20260416T152059Z
UID:10000711-1772119800-1772125200@ghpl.ca
SUMMARY:Teen Drop-In!
DESCRIPTION:Looking for something fun to do on a Thursday afternoon? \nJoin us every other Thursday at our Markdale Branch for our Teen Drop-In program –  a chill hangout just for teens with a fun activity each time! From creative crafts and games to movie nights and more\, there’s always something different to try. \nBring your friends or come make new ones – everyone’s welcome! \nSnacks provided.
URL:https://ghpl.ca/event/teen-night-3/2026-02-26/
LOCATION:Markdale Branch\, Grey Highlands Public Library - Markdale 75 Walker St\, Markdale\, ON\, N0C 1H0\, Canada
CATEGORIES:Teens
ATTACH;FMTTYPE=image/webp:https://ghpl.ca/wp-content/uploads/2025/05/7d438dd9-23c7-45d7-83cd-04f1319532fe.jpg.webp
ORGANIZER;CN="Angela Mason":MAILTO:amason@ghpl.ca
END:VEVENT
BEGIN:VEVENT
DTSTART;TZID=America/Toronto:20260225T103000
DTEND;TZID=America/Toronto:20260225T113000
DTSTAMP:20260422T063920
CREATED:20250226T142728Z
LAST-MODIFIED:20251217T201307Z
UID:10000173-1772015400-1772019000@ghpl.ca
SUMMARY:Family Storytime (Markdale)
DESCRIPTION:Join us at the Markdale Branch for crafts\, songs and stories! \nNo registration required. \n 
URL:https://ghpl.ca/event/family-storytime-2/2026-02-25/
LOCATION:Markdale Branch\, Grey Highlands Public Library - Markdale 75 Walker St\, Markdale\, ON\, N0C 1H0\, Canada
CATEGORIES:Kids
ATTACH;FMTTYPE=image/webp:https://ghpl.ca/wp-content/uploads/2025/02/Untitled-design-20.webp
ORGANIZER;CN="Michelle Campbell":MAILTO:mcampbell@ghpl.ca
END:VEVENT
BEGIN:VEVENT
DTSTART;TZID=America/Toronto:20260219T150000
DTEND;TZID=America/Toronto:20260219T170000
DTSTAMP:20260422T063920
CREATED:20260121T191933Z
LAST-MODIFIED:20260202T135104Z
UID:10000443-1771513200-1771520400@ghpl.ca
SUMMARY:Make it in the Makerspace: Mugs!
DESCRIPTION:Join us in the Makerspace for a hands‑on custom mug workshop! Get creative as you design your own unique mug using our Cricut equipment. Bring your own image to upload\, or draw something original with our Infusible Ink markers — either way\, you’ll leave with a one‑of‑a‑kind creation. \n\nMugs are $5 each (cash only\, payable at the program). \nAll materials are provided\, and no previous experience is needed. Come explore the Makerspace and make something that’s truly yours! \n 
URL:https://ghpl.ca/event/make-it-in-the-makerspace-mugs/
LOCATION:Markdale Branch\, Grey Highlands Public Library - Markdale 75 Walker St\, Markdale\, ON\, N0C 1H0\, Canada
CATEGORIES:Adult
ATTACH;FMTTYPE=image/webp:https://ghpl.ca/wp-content/uploads/2026/01/Untitled-design-2026-01-21T141817.782.webp
ORGANIZER;CN="Angela Mason":MAILTO:amason@ghpl.ca
END:VEVENT
BEGIN:VEVENT
DTSTART;TZID=America/Toronto:20260219T100000
DTEND;TZID=America/Toronto:20260219T120000
DTSTAMP:20260422T063920
CREATED:20260213T204532Z
LAST-MODIFIED:20260213T204532Z
UID:10000412-1771495200-1771502400@ghpl.ca
SUMMARY:Adult Wii Bowling
DESCRIPTION:Enjoy the fun of bowling without the heavy lifting! Join us for this social program at our Markdale Branch and connect with others while playing Wii Bowling in a relaxed\, friendly atmosphere. \nLight beverages will be provided. \n 
URL:https://ghpl.ca/event/adult-wii-bowling-4/
LOCATION:Markdale Branch\, Grey Highlands Public Library - Markdale 75 Walker St\, Markdale\, ON\, N0C 1H0\, Canada
CATEGORIES:Adult
ATTACH;FMTTYPE=image/webp:https://ghpl.ca/wp-content/uploads/2025/12/Untitled-design-2025-12-12T164522.065.webp
ORGANIZER;CN="Angela Mason":MAILTO:amason@ghpl.ca
END:VEVENT
BEGIN:VEVENT
DTSTART;TZID=America/Toronto:20260218T103000
DTEND;TZID=America/Toronto:20260218T113000
DTSTAMP:20260422T063920
CREATED:20250226T142728Z
LAST-MODIFIED:20251217T201307Z
UID:10000172-1771410600-1771414200@ghpl.ca
SUMMARY:Family Storytime (Markdale)
DESCRIPTION:Join us at the Markdale Branch for crafts\, songs and stories! \nNo registration required. \n 
URL:https://ghpl.ca/event/family-storytime-2/2026-02-18/
LOCATION:Markdale Branch\, Grey Highlands Public Library - Markdale 75 Walker St\, Markdale\, ON\, N0C 1H0\, Canada
CATEGORIES:Kids
ATTACH;FMTTYPE=image/webp:https://ghpl.ca/wp-content/uploads/2025/02/Untitled-design-20.webp
ORGANIZER;CN="Michelle Campbell":MAILTO:mcampbell@ghpl.ca
END:VEVENT
BEGIN:VEVENT
DTSTART;TZID=America/Toronto:20260212T153000
DTEND;TZID=America/Toronto:20260212T170000
DTSTAMP:20260422T063920
CREATED:20260121T205525Z
LAST-MODIFIED:20260121T205546Z
UID:10000446-1770910200-1770915600@ghpl.ca
SUMMARY:Teen Drop-In!: Galentine's & Palentine's
DESCRIPTION:Looking for something fun to do on a Thursday afternoon? \n\nJoin us for a special Valentine’s edition of our Teen Drop‑In program at the Markdale Branch! This chill hangout just for teens features a fun activity each time — and this week\, we’re celebrating friendship. \nCome get creative and make Galentine’s and Palentine’s cards for the friends in your life. Whether you bring your crew or come to make new friends\, everyone’s welcome! \nAll supplies and snacks are provided.
URL:https://ghpl.ca/event/6024/
LOCATION:Markdale Branch\, Grey Highlands Public Library - Markdale 75 Walker St\, Markdale\, ON\, N0C 1H0\, Canada
CATEGORIES:Teens
ATTACH;FMTTYPE=image/webp:https://ghpl.ca/wp-content/uploads/2026/01/Untitled-design-2026-01-21T155308.047.webp
ORGANIZER;CN="Angela Mason":MAILTO:amason@ghpl.ca
END:VEVENT
BEGIN:VEVENT
DTSTART;TZID=America/Toronto:20260211T103000
DTEND;TZID=America/Toronto:20260211T113000
DTSTAMP:20260422T063920
CREATED:20250226T142728Z
LAST-MODIFIED:20251217T201307Z
UID:10000171-1770805800-1770809400@ghpl.ca
SUMMARY:Family Storytime (Markdale)
DESCRIPTION:Join us at the Markdale Branch for crafts\, songs and stories! \nNo registration required. \n 
URL:https://ghpl.ca/event/family-storytime-2/2026-02-11/
LOCATION:Markdale Branch\, Grey Highlands Public Library - Markdale 75 Walker St\, Markdale\, ON\, N0C 1H0\, Canada
CATEGORIES:Kids
ATTACH;FMTTYPE=image/webp:https://ghpl.ca/wp-content/uploads/2025/02/Untitled-design-20.webp
ORGANIZER;CN="Michelle Campbell":MAILTO:mcampbell@ghpl.ca
END:VEVENT
BEGIN:VEVENT
DTSTART;TZID=America/Toronto:20260205T100000
DTEND;TZID=America/Toronto:20260205T120000
DTSTAMP:20260422T063920
CREATED:20260124T180254Z
LAST-MODIFIED:20260124T180254Z
UID:10000411-1770285600-1770292800@ghpl.ca
SUMMARY:Adult Wii Bowling
DESCRIPTION:Enjoy the fun of bowling without the heavy lifting! Join us for this social program at our Markdale Branch and connect with others while playing Wii Bowling in a relaxed\, friendly atmosphere. \nLight beverages will be provided. \n 
URL:https://ghpl.ca/event/adult-wii-bowling-3/
LOCATION:Markdale Branch\, Grey Highlands Public Library - Markdale 75 Walker St\, Markdale\, ON\, N0C 1H0\, Canada
CATEGORIES:Adult
ATTACH;FMTTYPE=image/webp:https://ghpl.ca/wp-content/uploads/2025/12/Untitled-design-2025-12-12T164522.065.webp
ORGANIZER;CN="Angela Mason":MAILTO:amason@ghpl.ca
END:VEVENT
BEGIN:VEVENT
DTSTART;TZID=America/Toronto:20260204T103000
DTEND;TZID=America/Toronto:20260204T113000
DTSTAMP:20260422T063920
CREATED:20250226T142728Z
LAST-MODIFIED:20251217T201307Z
UID:10000170-1770201000-1770204600@ghpl.ca
SUMMARY:Family Storytime (Markdale)
DESCRIPTION:Join us at the Markdale Branch for crafts\, songs and stories! \nNo registration required. \n 
URL:https://ghpl.ca/event/family-storytime-2/2026-02-04/
LOCATION:Markdale Branch\, Grey Highlands Public Library - Markdale 75 Walker St\, Markdale\, ON\, N0C 1H0\, Canada
CATEGORIES:Kids
ATTACH;FMTTYPE=image/webp:https://ghpl.ca/wp-content/uploads/2025/02/Untitled-design-20.webp
ORGANIZER;CN="Michelle Campbell":MAILTO:mcampbell@ghpl.ca
END:VEVENT
BEGIN:VEVENT
DTSTART;TZID=America/Toronto:20260130T100000
DTEND;TZID=America/Toronto:20260130T113000
DTSTAMP:20260422T063920
CREATED:20260109T164825Z
LAST-MODIFIED:20260113T191111Z
UID:10000409-1769767200-1769772600@ghpl.ca
SUMMARY:Zootopia: Get Wild! PA Day Program (Markdale)
DESCRIPTION:Things are getting wild at the library! \nJoin us for a fun-filled PA Day adventure at the library featuring games\, a special Zootopia photo op\, and a mystery scavenger hunt to find the missing Pawpsicle!  **Note that anyone who plans to participate in the photo op should avoid wearing the colour green! \nThis is a drop-in program — participants can arrive anytime during the scheduled timeslot and enjoy the activities at their own pace. \nRegistration is required for this program. \n**Please register each child individually under their own name.** \n 
URL:https://ghpl.ca/event/zootopia-get-wild-pa-day-program-markdale/
LOCATION:Markdale Branch\, Grey Highlands Public Library - Markdale 75 Walker St\, Markdale\, ON\, N0C 1H0\, Canada
CATEGORIES:Kids
ATTACH;FMTTYPE=image/webp:https://ghpl.ca/wp-content/uploads/2026/01/Untitled-design-2026-01-09T114702.967.webp
ORGANIZER;CN="Michelle Campbell":MAILTO:mcampbell@ghpl.ca
END:VEVENT
BEGIN:VEVENT
DTSTART;TZID=America/Toronto:20260128T103000
DTEND;TZID=America/Toronto:20260128T113000
DTSTAMP:20260422T063920
CREATED:20250226T142728Z
LAST-MODIFIED:20251217T201307Z
UID:10000169-1769596200-1769599800@ghpl.ca
SUMMARY:Family Storytime (Markdale)
DESCRIPTION:Join us at the Markdale Branch for crafts\, songs and stories! \nNo registration required. \n 
URL:https://ghpl.ca/event/family-storytime-2/2026-01-28/
LOCATION:Markdale Branch\, Grey Highlands Public Library - Markdale 75 Walker St\, Markdale\, ON\, N0C 1H0\, Canada
CATEGORIES:Kids
ATTACH;FMTTYPE=image/webp:https://ghpl.ca/wp-content/uploads/2025/02/Untitled-design-20.webp
ORGANIZER;CN="Michelle Campbell":MAILTO:mcampbell@ghpl.ca
END:VEVENT
BEGIN:VEVENT
DTSTART;TZID=America/Toronto:20260122T100000
DTEND;TZID=America/Toronto:20260122T120000
DTSTAMP:20260422T063920
CREATED:20260122T143254Z
LAST-MODIFIED:20260122T143254Z
UID:10000407-1769076000-1769083200@ghpl.ca
SUMMARY:Adult Wii Bowling
DESCRIPTION:Enjoy the fun of bowling without the heavy lifting! Join us for this social program at our Markdale Branch and connect with others while playing Wii Bowling in a relaxed\, friendly atmosphere. \nLight beverages will be provided. \n 
URL:https://ghpl.ca/event/adult-wii-bowling-2/
LOCATION:Markdale Branch\, Grey Highlands Public Library - Markdale 75 Walker St\, Markdale\, ON\, N0C 1H0\, Canada
CATEGORIES:Adult
ATTACH;FMTTYPE=image/webp:https://ghpl.ca/wp-content/uploads/2025/12/Untitled-design-2025-12-12T164522.065.webp
ORGANIZER;CN="Angela Mason":MAILTO:amason@ghpl.ca
END:VEVENT
BEGIN:VEVENT
DTSTART;TZID=America/Toronto:20260121T103000
DTEND;TZID=America/Toronto:20260121T113000
DTSTAMP:20260422T063920
CREATED:20250226T142728Z
LAST-MODIFIED:20251217T201307Z
UID:10000168-1768991400-1768995000@ghpl.ca
SUMMARY:Family Storytime (Markdale)
DESCRIPTION:Join us at the Markdale Branch for crafts\, songs and stories! \nNo registration required. \n 
URL:https://ghpl.ca/event/family-storytime-2/2026-01-21/
LOCATION:Markdale Branch\, Grey Highlands Public Library - Markdale 75 Walker St\, Markdale\, ON\, N0C 1H0\, Canada
CATEGORIES:Kids
ATTACH;FMTTYPE=image/webp:https://ghpl.ca/wp-content/uploads/2025/02/Untitled-design-20.webp
ORGANIZER;CN="Michelle Campbell":MAILTO:mcampbell@ghpl.ca
END:VEVENT
BEGIN:VEVENT
DTSTART;TZID=America/Toronto:20260115T153000
DTEND;TZID=America/Toronto:20260115T170000
DTSTAMP:20260422T063920
CREATED:20250819T180049Z
LAST-MODIFIED:20260416T152059Z
UID:10000710-1768491000-1768496400@ghpl.ca
SUMMARY:Teen Drop-In!
DESCRIPTION:Looking for something fun to do on a Thursday afternoon? \nJoin us every other Thursday at our Markdale Branch for our Teen Drop-In program –  a chill hangout just for teens with a fun activity each time! From creative crafts and games to movie nights and more\, there’s always something different to try. \nBring your friends or come make new ones – everyone’s welcome! \nSnacks provided.
URL:https://ghpl.ca/event/teen-night-3/2026-01-15/
LOCATION:Markdale Branch\, Grey Highlands Public Library - Markdale 75 Walker St\, Markdale\, ON\, N0C 1H0\, Canada
CATEGORIES:Teens
ATTACH;FMTTYPE=image/webp:https://ghpl.ca/wp-content/uploads/2025/05/7d438dd9-23c7-45d7-83cd-04f1319532fe.jpg.webp
ORGANIZER;CN="Angela Mason":MAILTO:amason@ghpl.ca
END:VEVENT
BEGIN:VEVENT
DTSTART;TZID=America/Toronto:20260114T103000
DTEND;TZID=America/Toronto:20260114T113000
DTSTAMP:20260422T063920
CREATED:20250226T142728Z
LAST-MODIFIED:20251217T201307Z
UID:10000167-1768386600-1768390200@ghpl.ca
SUMMARY:Family Storytime (Markdale)
DESCRIPTION:Join us at the Markdale Branch for crafts\, songs and stories! \nNo registration required. \n 
URL:https://ghpl.ca/event/family-storytime-2/2026-01-14/
LOCATION:Markdale Branch\, Grey Highlands Public Library - Markdale 75 Walker St\, Markdale\, ON\, N0C 1H0\, Canada
CATEGORIES:Kids
ATTACH;FMTTYPE=image/webp:https://ghpl.ca/wp-content/uploads/2025/02/Untitled-design-20.webp
ORGANIZER;CN="Michelle Campbell":MAILTO:mcampbell@ghpl.ca
END:VEVENT
BEGIN:VEVENT
DTSTART;TZID=America/Toronto:20260107T103000
DTEND;TZID=America/Toronto:20260107T113000
DTSTAMP:20260422T063920
CREATED:20250226T142728Z
LAST-MODIFIED:20251217T201307Z
UID:10000166-1767781800-1767785400@ghpl.ca
SUMMARY:Family Storytime (Markdale)
DESCRIPTION:Join us at the Markdale Branch for crafts\, songs and stories! \nNo registration required. \n 
URL:https://ghpl.ca/event/family-storytime-2/2026-01-07/
LOCATION:Markdale Branch\, Grey Highlands Public Library - Markdale 75 Walker St\, Markdale\, ON\, N0C 1H0\, Canada
CATEGORIES:Kids
ATTACH;FMTTYPE=image/webp:https://ghpl.ca/wp-content/uploads/2025/02/Untitled-design-20.webp
ORGANIZER;CN="Michelle Campbell":MAILTO:mcampbell@ghpl.ca
END:VEVENT
BEGIN:VEVENT
DTSTART;TZID=America/Toronto:20251231T103000
DTEND;TZID=America/Toronto:20251231T113000
DTSTAMP:20260422T063920
CREATED:20250226T142728Z
LAST-MODIFIED:20251217T201307Z
UID:10000165-1767177000-1767180600@ghpl.ca
SUMMARY:Family Storytime (Markdale)
DESCRIPTION:Join us at the Markdale Branch for crafts\, songs and stories! \nNo registration required. \n 
URL:https://ghpl.ca/event/family-storytime-2/2025-12-31/
LOCATION:Markdale Branch\, Grey Highlands Public Library - Markdale 75 Walker St\, Markdale\, ON\, N0C 1H0\, Canada
CATEGORIES:Kids
ATTACH;FMTTYPE=image/webp:https://ghpl.ca/wp-content/uploads/2025/02/Untitled-design-20.webp
ORGANIZER;CN="Michelle Campbell":MAILTO:mcampbell@ghpl.ca
END:VEVENT
BEGIN:VEVENT
DTSTART;TZID=America/Toronto:20251218T160000
DTEND;TZID=America/Toronto:20251218T170000
DTSTAMP:20260422T063920
CREATED:20251205T174907Z
LAST-MODIFIED:20251213T144846Z
UID:10000357-1766073600-1766077200@ghpl.ca
SUMMARY:Teen Drop-In!
DESCRIPTION:Looking for something fun to do on a Thursday afternoon? \nJoin us every other Thursday at our Markdale Branch for our Teen Drop-In program — a chill hangout just for teens with a fun activity each time! From creative crafts and games to movie nights and more\, there’s always something different to try. \nBring your friends or come make new ones — everyone’s welcome! \nSnacks provided.
URL:https://ghpl.ca/event/teen-night-3-7/
LOCATION:Markdale Branch\, Grey Highlands Public Library - Markdale 75 Walker St\, Markdale\, ON\, N0C 1H0\, Canada
CATEGORIES:Teens
ATTACH;FMTTYPE=image/webp:https://ghpl.ca/wp-content/uploads/2025/05/7d438dd9-23c7-45d7-83cd-04f1319532fe.jpg.webp
ORGANIZER;CN="Angela Mason":MAILTO:amason@ghpl.ca
END:VEVENT
BEGIN:VEVENT
DTSTART;TZID=America/Toronto:20251217T103000
DTEND;TZID=America/Toronto:20251217T113000
DTSTAMP:20260422T063920
CREATED:20250226T142728Z
LAST-MODIFIED:20251217T201307Z
UID:10000163-1765967400-1765971000@ghpl.ca
SUMMARY:Family Storytime (Markdale)
DESCRIPTION:Join us at the Markdale Branch for crafts\, songs and stories! \nNo registration required. \n 
URL:https://ghpl.ca/event/family-storytime-2/2025-12-17/
LOCATION:Markdale Branch\, Grey Highlands Public Library - Markdale 75 Walker St\, Markdale\, ON\, N0C 1H0\, Canada
CATEGORIES:Kids
ATTACH;FMTTYPE=image/webp:https://ghpl.ca/wp-content/uploads/2025/02/Untitled-design-20.webp
ORGANIZER;CN="Michelle Campbell":MAILTO:mcampbell@ghpl.ca
END:VEVENT
BEGIN:VEVENT
DTSTART;TZID=America/Toronto:20251210T103000
DTEND;TZID=America/Toronto:20251210T113000
DTSTAMP:20260422T063920
CREATED:20250226T142728Z
LAST-MODIFIED:20251217T201307Z
UID:10000162-1765362600-1765366200@ghpl.ca
SUMMARY:Family Storytime (Markdale)
DESCRIPTION:Join us at the Markdale Branch for crafts\, songs and stories! \nNo registration required. \n 
URL:https://ghpl.ca/event/family-storytime-2/2025-12-10/
LOCATION:Markdale Branch\, Grey Highlands Public Library - Markdale 75 Walker St\, Markdale\, ON\, N0C 1H0\, Canada
CATEGORIES:Kids
ATTACH;FMTTYPE=image/webp:https://ghpl.ca/wp-content/uploads/2025/02/Untitled-design-20.webp
ORGANIZER;CN="Michelle Campbell":MAILTO:mcampbell@ghpl.ca
END:VEVENT
BEGIN:VEVENT
DTSTART;TZID=America/Toronto:20251204T160000
DTEND;TZID=America/Toronto:20251204T170000
DTSTAMP:20260422T063920
CREATED:20251126T140925Z
LAST-MODIFIED:20251126T140926Z
UID:10000356-1764864000-1764867600@ghpl.ca
SUMMARY:Teen Drop-In!
DESCRIPTION:Looking for something fun to do on a Thursday afternoon? \nJoin us every other Thursday at our Markdale Branch for our Teen Drop-In program — a chill hangout just for teens with a new activity each time! From creative crafts and games to movie nights and more\, there’s always something different to try. \nBring your friends or come make new ones — everyone’s welcome! \nSnacks provided.
URL:https://ghpl.ca/event/teen-night-3-6/
LOCATION:Markdale Branch\, Grey Highlands Public Library - Markdale 75 Walker St\, Markdale\, ON\, N0C 1H0\, Canada
CATEGORIES:Teens
ATTACH;FMTTYPE=image/webp:https://ghpl.ca/wp-content/uploads/2025/05/7d438dd9-23c7-45d7-83cd-04f1319532fe.jpg.webp
ORGANIZER;CN="Angela Mason":MAILTO:amason@ghpl.ca
END:VEVENT
BEGIN:VEVENT
DTSTART;TZID=America/Toronto:20251203T103000
DTEND;TZID=America/Toronto:20251203T113000
DTSTAMP:20260422T063920
CREATED:20250226T142728Z
LAST-MODIFIED:20251217T201307Z
UID:10000161-1764757800-1764761400@ghpl.ca
SUMMARY:Family Storytime (Markdale)
DESCRIPTION:Join us at the Markdale Branch for crafts\, songs and stories! \nNo registration required. \n 
URL:https://ghpl.ca/event/family-storytime-2/2025-12-03/
LOCATION:Markdale Branch\, Grey Highlands Public Library - Markdale 75 Walker St\, Markdale\, ON\, N0C 1H0\, Canada
CATEGORIES:Kids
ATTACH;FMTTYPE=image/webp:https://ghpl.ca/wp-content/uploads/2025/02/Untitled-design-20.webp
ORGANIZER;CN="Michelle Campbell":MAILTO:mcampbell@ghpl.ca
END:VEVENT
BEGIN:VEVENT
DTSTART;TZID=America/Toronto:20251126T103000
DTEND;TZID=America/Toronto:20251126T113000
DTSTAMP:20260422T063920
CREATED:20250226T142728Z
LAST-MODIFIED:20251217T201307Z
UID:10000160-1764153000-1764156600@ghpl.ca
SUMMARY:Family Storytime (Markdale)
DESCRIPTION:Join us at the Markdale Branch for crafts\, songs and stories! \nNo registration required. \n 
URL:https://ghpl.ca/event/family-storytime-2/2025-11-26/
LOCATION:Markdale Branch\, Grey Highlands Public Library - Markdale 75 Walker St\, Markdale\, ON\, N0C 1H0\, Canada
CATEGORIES:Kids
ATTACH;FMTTYPE=image/webp:https://ghpl.ca/wp-content/uploads/2025/02/Untitled-design-20.webp
ORGANIZER;CN="Michelle Campbell":MAILTO:mcampbell@ghpl.ca
END:VEVENT
BEGIN:VEVENT
DTSTART;TZID=America/Toronto:20251121T100000
DTEND;TZID=America/Toronto:20251121T120000
DTSTAMP:20260422T063920
CREATED:20251030T201245Z
LAST-MODIFIED:20251110T183120Z
UID:10000389-1763719200-1763726400@ghpl.ca
SUMMARY:Wicked Potion Making (Markdale)
DESCRIPTION:Step into a world of wonder inspired by the magic of Wicked!\nYoung witches and wizards are invited to mix\, fizz\, bubble\, and brew their own magical potions through safe\, hands-on experiments. This enchanting program encourages creativity and curiosity while exploring fun science-based activities. \nThis is a drop-in program — participants can arrive anytime during the scheduled timeslot and enjoy the activities at their own pace. \nRegistration is required for this program. \n**Please register each child individually under their own name.**
URL:https://ghpl.ca/event/wicked-potion-making-markdale/
LOCATION:Markdale Branch\, Grey Highlands Public Library - Markdale 75 Walker St\, Markdale\, ON\, N0C 1H0\, Canada
CATEGORIES:Kids
ATTACH;FMTTYPE=image/webp:https://ghpl.ca/wp-content/uploads/2025/10/Untitled-design-2025-10-30T135259.907.webp
ORGANIZER;CN="Michelle Campbell":MAILTO:mcampbell@ghpl.ca
END:VEVENT
BEGIN:VEVENT
DTSTART;TZID=America/Toronto:20251120T153000
DTEND;TZID=America/Toronto:20251120T170000
DTSTAMP:20260422T063920
CREATED:20250819T180049Z
LAST-MODIFIED:20260416T152059Z
UID:10000709-1763652600-1763658000@ghpl.ca
SUMMARY:Teen Drop-In!
DESCRIPTION:Looking for something fun to do on a Thursday afternoon? \nJoin us every other Thursday at our Markdale Branch for our Teen Drop-In program –  a chill hangout just for teens with a fun activity each time! From creative crafts and games to movie nights and more\, there’s always something different to try. \nBring your friends or come make new ones – everyone’s welcome! \nSnacks provided.
URL:https://ghpl.ca/event/teen-night-3/2025-11-20/
LOCATION:Markdale Branch\, Grey Highlands Public Library - Markdale 75 Walker St\, Markdale\, ON\, N0C 1H0\, Canada
CATEGORIES:Teens
ATTACH;FMTTYPE=image/webp:https://ghpl.ca/wp-content/uploads/2025/05/7d438dd9-23c7-45d7-83cd-04f1319532fe.jpg.webp
ORGANIZER;CN="Angela Mason":MAILTO:amason@ghpl.ca
END:VEVENT
BEGIN:VEVENT
DTSTART;TZID=America/Toronto:20251119T103000
DTEND;TZID=America/Toronto:20251119T113000
DTSTAMP:20260422T063920
CREATED:20250226T142728Z
LAST-MODIFIED:20251217T201307Z
UID:10000159-1763548200-1763551800@ghpl.ca
SUMMARY:Family Storytime (Markdale)
DESCRIPTION:Join us at the Markdale Branch for crafts\, songs and stories! \nNo registration required. \n 
URL:https://ghpl.ca/event/family-storytime-2/2025-11-19/
LOCATION:Markdale Branch\, Grey Highlands Public Library - Markdale 75 Walker St\, Markdale\, ON\, N0C 1H0\, Canada
CATEGORIES:Kids
ATTACH;FMTTYPE=image/webp:https://ghpl.ca/wp-content/uploads/2025/02/Untitled-design-20.webp
ORGANIZER;CN="Michelle Campbell":MAILTO:mcampbell@ghpl.ca
END:VEVENT
BEGIN:VEVENT
DTSTART;TZID=America/Toronto:20251114T110000
DTEND;TZID=America/Toronto:20251114T120000
DTSTAMP:20260422T063920
CREATED:20251022T191819Z
LAST-MODIFIED:20251024T185347Z
UID:10000386-1763118000-1763121600@ghpl.ca
SUMMARY:Build Your Cybersecurity Confidence with Dan Hirt (Markdale)
DESCRIPTION:Join us for an informative session with Dan Hirt!  \nDiscover how cybercriminals target the most vulnerable and how YOU can protect yourself!  In this session\, you’ll learn about: \n\nDifferent types of scams\nHow to spot a scam before it’s too late\nEffective tips to deflect and avoid scams\n\nWhether you’re new to online safety or just looking to sharpen your skills\, this session will give you the tools to stay secure in today’s digital world.
URL:https://ghpl.ca/event/build-your-cybersecurity-confidence-with-dan-hirt-markdale/
LOCATION:Markdale Branch\, Grey Highlands Public Library - Markdale 75 Walker St\, Markdale\, ON\, N0C 1H0\, Canada
CATEGORIES:Adult
ATTACH;FMTTYPE=image/webp:https://ghpl.ca/wp-content/uploads/2025/09/Untitled-design-2025-09-24T162913.501.webp
ORGANIZER;CN="Angela Mason":MAILTO:amason@ghpl.ca
END:VEVENT
BEGIN:VEVENT
DTSTART;TZID=America/Toronto:20251112T103000
DTEND;TZID=America/Toronto:20251112T113000
DTSTAMP:20260422T063920
CREATED:20250226T142728Z
LAST-MODIFIED:20251217T201307Z
UID:10000158-1762943400-1762947000@ghpl.ca
SUMMARY:Family Storytime (Markdale)
DESCRIPTION:Join us at the Markdale Branch for crafts\, songs and stories! \nNo registration required. \n 
URL:https://ghpl.ca/event/family-storytime-2/2025-11-12/
LOCATION:Markdale Branch\, Grey Highlands Public Library - Markdale 75 Walker St\, Markdale\, ON\, N0C 1H0\, Canada
CATEGORIES:Kids
ATTACH;FMTTYPE=image/webp:https://ghpl.ca/wp-content/uploads/2025/02/Untitled-design-20.webp
ORGANIZER;CN="Michelle Campbell":MAILTO:mcampbell@ghpl.ca
END:VEVENT
END:VCALENDAR